BEGIN:VCALENDAR
VERSION:2.0
PRODID:-//River Garden - ECPv6.15.20//NONSGML v1.0//EN
CALSCALE:GREGORIAN
METHOD:PUBLISH
X-WR-CALNAME:River Garden
X-ORIGINAL-URL:https://rivergarden.org
X-WR-CALDESC:Events for River Garden
REFRESH-INTERVAL;VALUE=DURATION:PT1H
X-Robots-Tag:noindex
X-PUBLISHED-TTL:PT1H
BEGIN:VTIMEZONE
TZID:America/Halifax
BEGIN:DAYLIGHT
TZOFFSETFROM:-0400
TZOFFSETTO:-0300
TZNAME:ADT
DTSTART:20170312T060000
END:DAYLIGHT
BEGIN:STANDARD
TZOFFSETFROM:-0300
TZOFFSETTO:-0400
TZNAME:AST
DTSTART:20171105T050000
END:STANDARD
BEGIN:DAYLIGHT
TZOFFSETFROM:-0400
TZOFFSETTO:-0300
TZNAME:ADT
DTSTART:20180311T060000
END:DAYLIGHT
BEGIN:STANDARD
TZOFFSETFROM:-0300
TZOFFSETTO:-0400
TZNAME:AST
DTSTART:20181104T050000
END:STANDARD
BEGIN:DAYLIGHT
TZOFFSETFROM:-0400
TZOFFSETTO:-0300
TZNAME:ADT
DTSTART:20190310T060000
END:DAYLIGHT
BEGIN:STANDARD
TZOFFSETFROM:-0300
TZOFFSETTO:-0400
TZNAME:AST
DTSTART:20191103T050000
END:STANDARD
END:VTIMEZONE
BEGIN:VEVENT
DTSTART;TZID=America/Halifax:20180912T153000
DTEND;TZID=America/Halifax:20180912T163000
DTSTAMP:20260422T183518
CREATED:20180821T201009Z
LAST-MODIFIED:20180821T201009Z
UID:10902-1536766200-1536769800@rivergarden.org
SUMMARY:Support Group: Alzheimer's & Dementia Caregivers
DESCRIPTION:Support Group: Alzheimer’s & Dementia Caregivers\nDate: 2nd Wednesday of each month\nTime: 3:30-4:30 PM\nLocation: Frisch Family Pavilion @ River Garden (Adult Day area)\nQ? EMAIL adultday@rivergarden.org
URL:https://rivergarden.org/event/support-group-alzheimers-dementia-caregivers/
LOCATION:Frisch Family Pavilion\, River Garden campus
END:VEVENT
BEGIN:VEVENT
DTSTART;TZID=America/Halifax:20180909T100000
DTEND;TZID=America/Halifax:20180909T120000
DTSTAMP:20260422T183518
CREATED:20180905T122610Z
LAST-MODIFIED:20180905T122610Z
UID:10937-1536487200-1536494400@rivergarden.org
SUMMARY:Grandparents Day Photos
DESCRIPTION:Grandparents Day\nPhotos by Larry Tallis\nSunday\, September 9\, 10 a.m. – Noon\nPlease call to let us know you’re planning to attend.\n904-260-1818 or 904-288-7855.
URL:https://rivergarden.org/event/grandparents-day-photos/
LOCATION:Cohen Auditorium on the River Garden Campus\, 11401 Old St. Augustine Road\, Jacksonville\, FL\, 32258\, United States
END:VEVENT
BEGIN:VEVENT
DTSTART;TZID=America/Halifax:20180905T130000
DTEND;TZID=America/Halifax:20180905T140000
DTSTAMP:20260422T183518
CREATED:20180828T194245Z
LAST-MODIFIED:20180828T194359Z
UID:10913-1536152400-1536156000@rivergarden.org
SUMMARY:Medicare Information\, Presented by ElderSource
DESCRIPTION:Need to Talk To Someone About Your Health Insurance Needs? \nA Trained SHINE (Serving Health Insurance Needs of Elders) Program volunteer will meet with you to provide free and unbiased counseling.\nThey will:\n•Explain your Medicare benefits;\n•Help you understand which Medicare Prescription Drug Plan best fits your needs;\n•Answer your questions about Medigap\, long-term care insurance policies\, and other health insurance programs for seniors;  and\n•Provide information on specific areas\, such as home health benefits\, Medicare claims and appeals\, and other Medicare issues.
URL:https://rivergarden.org/event/medicare-information-presented-by-eldersource/
LOCATION:The Coves Clubroom on the River Garden campus
END:VEVENT
BEGIN:VEVENT
DTSTART;TZID=America/Halifax:20180905T090000
DTEND;TZID=America/Halifax:20180905T103000
DTSTAMP:20260422T183518
CREATED:20180626T204909Z
LAST-MODIFIED:20180626T204945Z
UID:10663-1536138000-1536143400@rivergarden.org
SUMMARY:Jewish Java
DESCRIPTION:Shalom Jacksonville\nin partnership with River Garden Jewish Life\nCohen Auditorium\n9:00 AM
URL:https://rivergarden.org/event/jewish-java-2/
END:VEVENT
BEGIN:VEVENT
DTSTART;TZID=America/Halifax:20180819T103000
DTEND;TZID=America/Halifax:20180819T120000
DTSTAMP:20260422T183518
CREATED:20180626T195220Z
LAST-MODIFIED:20180626T195537Z
UID:10637-1534674600-1534680000@rivergarden.org
SUMMARY:Jewish Genealogy Movie
DESCRIPTION:Jewish Genealogy Society of NE FL Movie\n“How to Re-establish a Vodka Empire”\n10:30 AM\nCohen Auditorium
URL:https://rivergarden.org/event/jewish-genealogy-movie/
END:VEVENT
BEGIN:VEVENT
DTSTART;TZID=America/Halifax:20180815T103000
DTEND;TZID=America/Halifax:20180815T120000
DTSTAMP:20260422T183518
CREATED:20180626T200948Z
LAST-MODIFIED:20180704T201625Z
UID:10646-1534329000-1534334400@rivergarden.org
SUMMARY:Jewish Life Program: Alina Kentof
DESCRIPTION:River Garden Jewish Life Program\nAlina Kentof Presents\n“Building a Better World with Your Most Powerful Weapon”\n10:30 AM\nCohen Auditorium
URL:https://rivergarden.org/event/jewish-life-program-alina-kentof-presents/
END:VEVENT
BEGIN:VEVENT
DTSTART;TZID=America/Halifax:20180725T180000
DTEND;TZID=America/Halifax:20180725T193000
DTSTAMP:20260422T183518
CREATED:20180626T195110Z
LAST-MODIFIED:20180626T200507Z
UID:10635-1532541600-1532547000@rivergarden.org
SUMMARY:Jewish Genealogy Meeting
DESCRIPTION:Jewish Genealogy Society of NE FL\n6:00 PM\nCohen Auditorium
URL:https://rivergarden.org/event/jewish-genealogy/
END:VEVENT
BEGIN:VEVENT
DTSTART;TZID=America/Halifax:20180715T103000
DTEND;TZID=America/Halifax:20180715T120000
DTSTAMP:20260422T183518
CREATED:20180615T201158Z
LAST-MODIFIED:20180626T194849Z
UID:10588-1531650600-1531656000@rivergarden.org
SUMMARY:Community Movie Screening
DESCRIPTION:Shalom JAX Community Movie Screening “Sturgeon Queens”\n10:30 AM
URL:https://rivergarden.org/event/community-movie-screening/
END:VEVENT
BEGIN:VEVENT
DTSTART;TZID=America/Halifax:20180708T103000
DTEND;TZID=America/Halifax:20180708T120000
DTSTAMP:20260422T183518
CREATED:20180626T200408Z
LAST-MODIFIED:20180704T201651Z
UID:10641-1531045800-1531051200@rivergarden.org
SUMMARY:Jewish Life Program: Shlicha Shelly
DESCRIPTION:River Garden Jewish Life Program\nShlicha Shelly Presents\n“Georgian Jewry”\n10:30 AM\nCohen Auditorium
URL:https://rivergarden.org/event/jewish-life-program/
END:VEVENT
BEGIN:VEVENT
DTSTART;TZID=America/Halifax:20180626T110000
DTEND;TZID=America/Halifax:20180626T160000
DTSTAMP:20260422T183518
CREATED:20180601T190049Z
LAST-MODIFIED:20180601T190121Z
UID:10573-1530010800-1530028800@rivergarden.org
SUMMARY:Game Day - Auxiliary
DESCRIPTION:OPEN TO ALL GUESTS\n11:00 am TO 4:00 pm\nHOSTED BY THE RIVER GARDEN AUXILIARY\n$20 includes lunch and snacks\nBridge\, Canasta\, Mah Jongg or any game of your choice.\nSpecial 50 -50 Raffle \nMail Your Check (payable to River Garden Auxiliary)\nTo Faye Hyken\, 10077 Heather Lake Court West\, Jacksonville FL 32256\nQuestions? Call Faye Hyken 363 -9341 \nPlease RSVP with Name\, e mail\, phone number and game you are playing.
URL:https://rivergarden.org/event/game-day-auxiliary/
END:VEVENT
BEGIN:VEVENT
DTSTART;TZID=America/Halifax:20180615T080000
DTEND;TZID=America/Halifax:20180615T170000
DTSTAMP:20260422T183518
CREATED:20180615T201019Z
LAST-MODIFIED:20180615T201019Z
UID:10586-1529049600-1529082000@rivergarden.org
SUMMARY:26th Annual Gala Event
DESCRIPTION:Save the Date\nContact Kathy Osterer for more information: kosterer@rivergarden.org or 904-886-8430.
URL:https://rivergarden.org/event/26th-annual-gala-event/
END:VEVENT
BEGIN:VEVENT
DTSTART;TZID=America/Halifax:20180606T090000
DTEND;TZID=America/Halifax:20180606T103000
DTSTAMP:20260422T183518
CREATED:20180601T183622Z
LAST-MODIFIED:20180601T183622Z
UID:10571-1528275600-1528281000@rivergarden.org
SUMMARY:Jewish Java
DESCRIPTION:June Java will feature Stacey Goldring presenting “Diving Into a Great Book!”\nJava will be on hiatus July and August\, to resume in September.
URL:https://rivergarden.org/event/jewish-java/
LOCATION:Cohen Auditorium on the River Garden Campus\, 11401 Old St. Augustine Road\, Jacksonville\, FL\, 32258\, United States
END:VEVENT
BEGIN:VEVENT
DTSTART;TZID=America/Halifax:20180502T090000
DTEND;TZID=America/Halifax:20180502T103000
DTSTAMP:20260422T183518
CREATED:20180321T153630Z
LAST-MODIFIED:20180321T153740Z
UID:10488-1525251600-1525257000@rivergarden.org
SUMMARY:Jewish Java -- Michelle Pargman Presents: Tools for the Whole Mishpucha Family!
DESCRIPTION:By reservation only\nMUST RSVP to Isabel Balotin no later than April 25th \nshalomjax@jewishjacksonville.org\n904-448- 5000 x 1206 \n 
URL:https://rivergarden.org/event/jewish-java-michelle-pargman-presents-tools-for-the-whole-mishpucha-family/
LOCATION:Cohen Auditorium on the River Garden Campus\, 11401 Old St. Augustine Road\, Jacksonville\, FL\, 32258\, United States
ATTACH;FMTTYPE=image/jpeg:https://rivergarden.org/wp-content/uploads/2018/03/Java-2018-0502-v.2.jpg
END:VEVENT
BEGIN:VEVENT
DTSTART;TZID=America/Halifax:20180425T100000
DTEND;TZID=America/Halifax:20180425T100000
DTSTAMP:20260422T183518
CREATED:20180202T165007Z
LAST-MODIFIED:20180202T165112Z
UID:10354-1524650400-1524650400@rivergarden.org
SUMMARY:22nd Annual River Garden Classic Golf Tournament
DESCRIPTION:Title Sponsor\nJanne and Jody Brandenburg / Hardage-Giddens Funeral Homes & Cemeteries \nDeerwood Country Club\nRegistration Opens 10:00 AM\nShotgun Start 12:00 PM \nThe Annual River Garden Golf Classic raises funds to benefit The Albert Z. Fleet Geriatric Training Center at River Garden. The Training Center provides continuing education\, training and professional advancement for staff.
URL:https://rivergarden.org/event/22nd-annual-river-garden-classic-golf-tournament/
LOCATION:Deerwood Country Club\, 10239 Golf Club Drive\, Jacksonville\, FL\, 32256\, United States
ATTACH;FMTTYPE=image/jpeg:https://rivergarden.org/wp-content/uploads/2018/02/Golf-box-art-bordered-JJN-18-01.jpg
END:VEVENT
BEGIN:VEVENT
DTSTART;TZID=America/Halifax:20180418T103000
DTEND;TZID=America/Halifax:20180418T120000
DTSTAMP:20260422T183518
CREATED:20180319T184856Z
LAST-MODIFIED:20180319T185003Z
UID:10476-1524047400-1524052800@rivergarden.org
SUMMARY:Rabbi Merrill Shapiro Presents: Women in Charge: The Matriarchs of Israel
DESCRIPTION:
URL:https://rivergarden.org/event/rabbi-merrill-shapiro-presents-women-in-charge-the-matriarchs-of-israel/
LOCATION:Cohen Auditorium on the River Garden Campus\, 11401 Old St. Augustine Road\, Jacksonville\, FL\, 32258\, United States
ATTACH;FMTTYPE=image/jpeg:https://rivergarden.org/wp-content/uploads/2018/03/Rabbi-Shapiro-Women-in-Charge.jpg
END:VEVENT
BEGIN:VEVENT
DTSTART;TZID=America/Halifax:20180412T133000
DTEND;TZID=America/Halifax:20180412T150000
DTSTAMP:20260422T183518
CREATED:20180409T125010Z
LAST-MODIFIED:20180409T125025Z
UID:10512-1523539800-1523545200@rivergarden.org
SUMMARY:Yom Hashoah Remembrance Service
DESCRIPTION:
URL:https://rivergarden.org/event/yom-hashoah-remembrance-service/
LOCATION:Cohen Auditorium on the River Garden Campus\, 11401 Old St. Augustine Road\, Jacksonville\, FL\, 32258\, United States
ATTACH;FMTTYPE=image/jpeg:https://rivergarden.org/wp-content/uploads/2018/04/Yom-Hashoah-2018-Memorial-Services.jpg
END:VEVENT
BEGIN:VEVENT
DTSTART;TZID=America/Halifax:20180411T103000
DTEND;TZID=America/Halifax:20180411T120000
DTSTAMP:20260422T183518
CREATED:20180319T184600Z
LAST-MODIFIED:20180319T184600Z
UID:10473-1523442600-1523448000@rivergarden.org
SUMMARY:Cindy Edelman Presents: Henryk Ross\, A Man and His Camera
DESCRIPTION:
URL:https://rivergarden.org/event/cindy-edelman-presents-henryk-ross-a-man-and-his-camera/
LOCATION:Cohen Auditorium on the River Garden Campus\, 11401 Old St. Augustine Road\, Jacksonville\, FL\, 32258\, United States
ATTACH;FMTTYPE=image/jpeg:https://rivergarden.org/wp-content/uploads/2018/03/Cindy-Edelman-Henryk-Ross.jpg
END:VEVENT
BEGIN:VEVENT
DTSTART;TZID=America/Halifax:20180410T110000
DTEND;TZID=America/Halifax:20180410T123000
DTSTAMP:20260422T183518
CREATED:20180328T204726Z
LAST-MODIFIED:20180402T204432Z
UID:10504-1523358000-1523363400@rivergarden.org
SUMMARY:Danielle Porter - The Healing Art of Music
DESCRIPTION:
URL:https://rivergarden.org/event/danielle-porter-the-healing-art-of-music/
LOCATION:Cohen Auditorium on the River Garden Campus\, 11401 Old St. Augustine Road\, Jacksonville\, FL\, 32258\, United States
ATTACH;FMTTYPE=image/jpeg:https://rivergarden.org/wp-content/uploads/2018/04/Healing-Art-of-Music-v.2.jpg
END:VEVENT
BEGIN:VEVENT
DTSTART;TZID=America/Halifax:20180404T090000
DTEND;TZID=America/Halifax:20180404T103000
DTSTAMP:20260422T183518
CREATED:20180321T153015Z
LAST-MODIFIED:20180321T153208Z
UID:10481-1522832400-1522837800@rivergarden.org
SUMMARY:Jewish Java -- Tommy Cohen Presents: Hiding From the Nazis in Holland
DESCRIPTION:Complimentary Passover Refreshments – by reservation only\nMUST RSVP to Isabel Balotin no later than March 29th \nshalomjax@jewishjacksonville.org\n 904-448- 5000 x 1206
URL:https://rivergarden.org/event/tommy-cohen-presents-hiding-from-the-nazis-in-holland/
LOCATION:Cohen Auditorium on the River Garden Campus\, 11401 Old St. Augustine Road\, Jacksonville\, FL\, 32258\, United States
ATTACH;FMTTYPE=image/jpeg:https://rivergarden.org/wp-content/uploads/2018/03/Java-2018-0404-v.2.jpg
END:VEVENT
BEGIN:VEVENT
DTSTART;TZID=America/Halifax:20180326T130000
DTEND;TZID=America/Halifax:20180326T140000
DTSTAMP:20260422T183518
CREATED:20180221T204129Z
LAST-MODIFIED:20180221T204129Z
UID:10419-1522069200-1522072800@rivergarden.org
SUMMARY:Meditation Group at The Coves – Led by Sheila Leiberman
DESCRIPTION:Meditation practice enhances well-being\, and studies have proven it also helps brain function including concentration. \nJoin Coves members and others from the community for an hour of calm…\nWe begin with a discussion concerning a relevant topic and conclude with guided meditation. \nEvery Monday from 1:00 – 2:00 PM\nIn the Coves Clubroom \nRSVP to Cheryl Fisch: 904-886-8936 or cfisch@rivergarden.org
URL:https://rivergarden.org/event/meditation-group-coves-led-sheila-leiberman-8/
LOCATION:The Coves Clubroom on the River Garden campus
ATTACH;FMTTYPE=image/jpeg:https://rivergarden.org/wp-content/uploads/2018/02/meditation-image.jpg
END:VEVENT
BEGIN:VEVENT
DTSTART;TZID=America/Halifax:20180325T150000
DTEND;TZID=America/Halifax:20180325T180000
DTSTAMP:20260422T183518
CREATED:20180201T211845Z
LAST-MODIFIED:20180214T182250Z
UID:10352-1521990000-1522000800@rivergarden.org
SUMMARY:72nd Anniversary Day Celebration & Annual Meeting
DESCRIPTION:72nd Anniversary Day Celebration & Annual Meeting\nMarch 25\, 2018 @ 3:00 pm – 6:00 pm \nJoin us as we celebrate 72 years of excellent service to our Jacksonville community. Share the afternoon with family and friends as they enjoy a delicious barbecue\, and children of all ages are entertained by clowns\, balloon artists and face painters\, pony rides\, a bounce house and so much more. \nAs the festivities continue outside\, the annual meeting will begin at 4:30 in the Cohen Auditorium. \nWe hope you’ll join us during our Anniversary Day celebration!\nBring the whole family!
URL:https://rivergarden.org/event/72nd-anniversary-day-celebration-annual-meeting/
LOCATION:River Garden Campus\, 11401 Old St. Augustine Road\, Jacksonville\, FL\, 32258\, United States
ATTACH;FMTTYPE=image/jpeg:https://rivergarden.org/wp-content/uploads/2018/02/18-Invite-draft-v.2-poster-version.jpg
END:VEVENT
BEGIN:VEVENT
DTSTART;TZID=America/Halifax:20180319T130000
DTEND;TZID=America/Halifax:20180319T140000
DTSTAMP:20260422T183518
CREATED:20180221T203944Z
LAST-MODIFIED:20180221T203944Z
UID:10417-1521464400-1521468000@rivergarden.org
SUMMARY:Meditation Group at The Coves – Led by Sheila Leiberman
DESCRIPTION:Meditation practice enhances well-being\, and studies have proven it also helps brain function including concentration. \nJoin Coves members and others from the community for an hour of calm…\nWe begin with a discussion concerning a relevant topic and conclude with guided meditation. \nEvery Monday from 1:00 – 2:00 PM\nIn the Coves Clubroom \nRSVP to Cheryl Fisch: 904-886-8936 or cfisch@rivergarden.org
URL:https://rivergarden.org/event/meditation-group-coves-led-sheila-leiberman-7/
LOCATION:The Coves Clubroom on the River Garden campus
ATTACH;FMTTYPE=image/jpeg:https://rivergarden.org/wp-content/uploads/2018/02/meditation-image.jpg
END:VEVENT
BEGIN:VEVENT
DTSTART;TZID=America/Halifax:20180318T110000
DTEND;TZID=America/Halifax:20180318T123000
DTSTAMP:20260422T183518
CREATED:20180214T202231Z
LAST-MODIFIED:20180220T232214Z
UID:10402-1521370800-1521376200@rivergarden.org
SUMMARY:We Really Mean Business: The Contribution of Jews to the History of Jacksonville
DESCRIPTION:This program is free and open to the community. \nRefreshments will be served. \nPlease RSVP by Tuesday\, March 13 to Laura Platzer:\n lplatzer@rivergarden.org – OR – 904-886-8429.
URL:https://rivergarden.org/event/dr-stephen-whitfield-presents-jewish-businesses-contributions-jacksonville-history/
LOCATION:Cohen Auditorium on the River Garden Campus\, 11401 Old St. Augustine Road\, Jacksonville\, FL\, 32258\, United States
ATTACH;FMTTYPE=image/jpeg:https://rivergarden.org/wp-content/uploads/2018/02/Steve-Whitfield-Jax-Jewish-Business-History-lo-res.jpg
END:VEVENT
BEGIN:VEVENT
DTSTART;TZID=America/Halifax:20180314T103000
DTEND;TZID=America/Halifax:20180314T120000
DTSTAMP:20260422T183518
CREATED:20180214T181026Z
LAST-MODIFIED:20180216T202435Z
UID:10394-1521023400-1521028800@rivergarden.org
SUMMARY:Rabbi Perras Presents - Jewish Humor: It Only Hurts When I Laugh
DESCRIPTION:This program is free and open to the community. \nRefreshments will be served. \nPlease RSVP by Wednesday\, March 7\, to Laura Platzer:\n lplatzer@rivergarden.org or 904-886-8429.
URL:https://rivergarden.org/event/rabbi-perras-presents-jewish-humor-hurts-laugh/
LOCATION:Cohen Auditorium on the River Garden Campus\, 11401 Old St. Augustine Road\, Jacksonville\, FL\, 32258\, United States
ATTACH;FMTTYPE=image/jpeg:https://rivergarden.org/wp-content/uploads/2018/02/Rabbi-Perras-Jewish-Humor.jpg
END:VEVENT
BEGIN:VEVENT
DTSTART;TZID=America/Halifax:20180313T183000
DTEND;TZID=America/Halifax:20180313T200000
DTSTAMP:20260422T183518
CREATED:20180306T150940Z
LAST-MODIFIED:20180306T151010Z
UID:10433-1520965800-1520971200@rivergarden.org
SUMMARY:Northeast Florida Conservatory Concert Band Presents: "Spring is in the Air"
DESCRIPTION:RSVP by Wednesday\, March 7th\, to:\n Laura Platzer — 904-886-8429 or lplatzer@rivergarden.org
URL:https://rivergarden.org/event/northeast-florida-conservatory-concert-band-presents-spring-air/
LOCATION:Cohen Auditorium on the River Garden Campus\, 11401 Old St. Augustine Road\, Jacksonville\, FL\, 32258\, United States
ATTACH;FMTTYPE=image/jpeg:https://rivergarden.org/wp-content/uploads/2018/03/NE-FL-Conservatory-Spring-Concert-lo-res.jpg
END:VEVENT
BEGIN:VEVENT
DTSTART;TZID=America/Halifax:20180312T130000
DTEND;TZID=America/Halifax:20180312T140000
DTSTAMP:20260422T183518
CREATED:20180221T202559Z
LAST-MODIFIED:20180221T202559Z
UID:10415-1520859600-1520863200@rivergarden.org
SUMMARY:Meditation Group at The Coves – Led by Sheila Leiberman
DESCRIPTION:Meditation practice enhances well-being\, and studies have proven it also helps brain function including concentration. \nJoin Coves members and others from the community for an hour of calm…\nWe begin with a discussion concerning a relevant topic and conclude with guided meditation. \nEvery Monday from 1:00 – 2:00 PM\nIn the Coves Clubroom \nRSVP to Cheryl Fisch: 904-886-8936 or cfisch@rivergarden.org
URL:https://rivergarden.org/event/meditation-group-coves-led-sheila-leiberman-6/
LOCATION:The Coves Clubroom on the River Garden campus
ATTACH;FMTTYPE=image/jpeg:https://rivergarden.org/wp-content/uploads/2018/02/meditation-image.jpg
END:VEVENT
BEGIN:VEVENT
DTSTART;TZID=America/Halifax:20180309T100000
DTEND;TZID=America/Halifax:20180309T113000
DTSTAMP:20260422T183518
CREATED:20180214T180015Z
LAST-MODIFIED:20180214T180649Z
UID:10389-1520589600-1520595000@rivergarden.org
SUMMARY:Cindy Edelman Presents - Visions of Love
DESCRIPTION:This program is free and open to the community. \nRefreshments will be served. \nPlease RSVP by Friday\, March 2\, to Laura Platzer: \nlplatzer@rivergarden.org – OR – 904-886-8429
URL:https://rivergarden.org/event/cindy-edelman-presents-visions-love/
LOCATION:Cohen Auditorium on the River Garden Campus\, 11401 Old St. Augustine Road\, Jacksonville\, FL\, 32258\, United States
ATTACH;FMTTYPE=image/jpeg:https://rivergarden.org/wp-content/uploads/2018/02/Cindy-Edelman-Visions-of-Love-lo-res.jpg
END:VEVENT
BEGIN:VEVENT
DTSTART;TZID=America/Halifax:20180307T090000
DTEND;TZID=America/Halifax:20180307T103000
DTSTAMP:20260422T183518
CREATED:20180227T163438Z
LAST-MODIFIED:20180227T165221Z
UID:10426-1520413200-1520418600@rivergarden.org
SUMMARY:Jewish Java - The Impact of Jewish Federation in Jacksonville and Around the World
DESCRIPTION:
URL:https://rivergarden.org/event/jewish-java-impact-jewish-federation-jacksonville-around-world/
LOCATION:Cohen Auditorium on the River Garden Campus\, 11401 Old St. Augustine Road\, Jacksonville\, FL\, 32258\, United States
ATTACH;FMTTYPE=image/jpeg:https://rivergarden.org/wp-content/uploads/2018/02/Java-2018-0307.jpg
END:VEVENT
BEGIN:VEVENT
DTSTART;TZID=America/Halifax:20180305T130000
DTEND;TZID=America/Halifax:20180305T140000
DTSTAMP:20260422T183518
CREATED:20180221T202332Z
LAST-MODIFIED:20180221T202332Z
UID:10413-1520254800-1520258400@rivergarden.org
SUMMARY:Meditation Group at The Coves – Led by Sheila Leiberman
DESCRIPTION:Meditation practice enhances well-being\, and studies have proven it also helps brain function including concentration. \nJoin Coves members and others from the community for an hour of calm…\nWe begin with a discussion concerning a relevant topic and conclude with guided meditation. \nEvery Monday from 1:00 – 2:00 PM\nIn the Coves Clubroom \nRSVP to Cheryl Fisch: 904-886-8936 or cfisch@rivergarden.org
URL:https://rivergarden.org/event/meditation-group-coves-led-sheila-leiberman-5/
LOCATION:The Coves Clubroom on the River Garden campus
ATTACH;FMTTYPE=image/jpeg:https://rivergarden.org/wp-content/uploads/2018/02/meditation-image.jpg
END:VEVENT
BEGIN:VEVENT
DTSTART;TZID=America/Halifax:20180226T130000
DTEND;TZID=America/Halifax:20180226T140000
DTSTAMP:20260422T183518
CREATED:20180202T221329Z
LAST-MODIFIED:20180202T221329Z
UID:10385-1519650000-1519653600@rivergarden.org
SUMMARY:Meditation Group at The Coves - Led by Sheila Leiberman
DESCRIPTION:Meditation practice enhances well-being\, and studies have proven it also helps brain function including concentration. \nJoin Coves members and others from the community for an hour of calm…\nWe begin with a discussion concerning a relevant topic and conclude with guided meditation. \nEvery Monday from 1:00 – 2:00 PM\nIn the Coves Clubroom \nRSVP to Cheryl Fisch: 904-886-8936 or cfisch@rivergarden.org
URL:https://rivergarden.org/event/meditation-group-coves-led-sheila-leiberman-4/
LOCATION:The Coves Clubroom on the River Garden campus
ATTACH;FMTTYPE=image/jpeg:https://rivergarden.org/wp-content/uploads/2018/02/meditation-image.jpg
END:VEVENT
END:VCALENDAR