BEGIN:VCALENDAR
VERSION:2.0
PRODID:-//River Garden - ECPv6.15.20//NONSGML v1.0//EN
CALSCALE:GREGORIAN
METHOD:PUBLISH
X-WR-CALNAME:River Garden
X-ORIGINAL-URL:https://rivergarden.org
X-WR-CALDESC:Events for River Garden
REFRESH-INTERVAL;VALUE=DURATION:PT1H
X-Robots-Tag:noindex
X-PUBLISHED-TTL:PT1H
BEGIN:VTIMEZONE
TZID:America/Halifax
BEGIN:DAYLIGHT
TZOFFSETFROM:-0400
TZOFFSETTO:-0300
TZNAME:ADT
DTSTART:20160313T060000
END:DAYLIGHT
BEGIN:STANDARD
TZOFFSETFROM:-0300
TZOFFSETTO:-0400
TZNAME:AST
DTSTART:20161106T050000
END:STANDARD
BEGIN:DAYLIGHT
TZOFFSETFROM:-0400
TZOFFSETTO:-0300
TZNAME:ADT
DTSTART:20170312T060000
END:DAYLIGHT
BEGIN:STANDARD
TZOFFSETFROM:-0300
TZOFFSETTO:-0400
TZNAME:AST
DTSTART:20171105T050000
END:STANDARD
BEGIN:DAYLIGHT
TZOFFSETFROM:-0400
TZOFFSETTO:-0300
TZNAME:ADT
DTSTART:20180311T060000
END:DAYLIGHT
BEGIN:STANDARD
TZOFFSETFROM:-0300
TZOFFSETTO:-0400
TZNAME:AST
DTSTART:20181104T050000
END:STANDARD
BEGIN:DAYLIGHT
TZOFFSETFROM:-0400
TZOFFSETTO:-0300
TZNAME:ADT
DTSTART:20190310T060000
END:DAYLIGHT
BEGIN:STANDARD
TZOFFSETFROM:-0300
TZOFFSETTO:-0400
TZNAME:AST
DTSTART:20191103T050000
END:STANDARD
END:VTIMEZONE
BEGIN:VEVENT
DTSTART;TZID=America/Halifax:20180325T150000
DTEND;TZID=America/Halifax:20180325T180000
DTSTAMP:20260422T181120
CREATED:20180201T211845Z
LAST-MODIFIED:20180214T182250Z
UID:10352-1521990000-1522000800@rivergarden.org
SUMMARY:72nd Anniversary Day Celebration & Annual Meeting
DESCRIPTION:72nd Anniversary Day Celebration & Annual Meeting\nMarch 25\, 2018 @ 3:00 pm – 6:00 pm \nJoin us as we celebrate 72 years of excellent service to our Jacksonville community. Share the afternoon with family and friends as they enjoy a delicious barbecue\, and children of all ages are entertained by clowns\, balloon artists and face painters\, pony rides\, a bounce house and so much more. \nAs the festivities continue outside\, the annual meeting will begin at 4:30 in the Cohen Auditorium. \nWe hope you’ll join us during our Anniversary Day celebration!\nBring the whole family!
URL:https://rivergarden.org/event/72nd-anniversary-day-celebration-annual-meeting/
LOCATION:River Garden Campus\, 11401 Old St. Augustine Road\, Jacksonville\, FL\, 32258\, United States
ATTACH;FMTTYPE=image/jpeg:https://rivergarden.org/wp-content/uploads/2018/02/18-Invite-draft-v.2-poster-version.jpg
END:VEVENT
BEGIN:VEVENT
DTSTART;TZID=America/Halifax:20180319T130000
DTEND;TZID=America/Halifax:20180319T140000
DTSTAMP:20260422T181120
CREATED:20180221T203944Z
LAST-MODIFIED:20180221T203944Z
UID:10417-1521464400-1521468000@rivergarden.org
SUMMARY:Meditation Group at The Coves – Led by Sheila Leiberman
DESCRIPTION:Meditation practice enhances well-being\, and studies have proven it also helps brain function including concentration. \nJoin Coves members and others from the community for an hour of calm…\nWe begin with a discussion concerning a relevant topic and conclude with guided meditation. \nEvery Monday from 1:00 – 2:00 PM\nIn the Coves Clubroom \nRSVP to Cheryl Fisch: 904-886-8936 or cfisch@rivergarden.org
URL:https://rivergarden.org/event/meditation-group-coves-led-sheila-leiberman-7/
LOCATION:The Coves Clubroom on the River Garden campus
ATTACH;FMTTYPE=image/jpeg:https://rivergarden.org/wp-content/uploads/2018/02/meditation-image.jpg
END:VEVENT
BEGIN:VEVENT
DTSTART;TZID=America/Halifax:20180318T110000
DTEND;TZID=America/Halifax:20180318T123000
DTSTAMP:20260422T181120
CREATED:20180214T202231Z
LAST-MODIFIED:20180220T232214Z
UID:10402-1521370800-1521376200@rivergarden.org
SUMMARY:We Really Mean Business: The Contribution of Jews to the History of Jacksonville
DESCRIPTION:This program is free and open to the community. \nRefreshments will be served. \nPlease RSVP by Tuesday\, March 13 to Laura Platzer:\n lplatzer@rivergarden.org – OR – 904-886-8429.
URL:https://rivergarden.org/event/dr-stephen-whitfield-presents-jewish-businesses-contributions-jacksonville-history/
LOCATION:Cohen Auditorium on the River Garden Campus\, 11401 Old St. Augustine Road\, Jacksonville\, FL\, 32258\, United States
ATTACH;FMTTYPE=image/jpeg:https://rivergarden.org/wp-content/uploads/2018/02/Steve-Whitfield-Jax-Jewish-Business-History-lo-res.jpg
END:VEVENT
BEGIN:VEVENT
DTSTART;TZID=America/Halifax:20180314T103000
DTEND;TZID=America/Halifax:20180314T120000
DTSTAMP:20260422T181120
CREATED:20180214T181026Z
LAST-MODIFIED:20180216T202435Z
UID:10394-1521023400-1521028800@rivergarden.org
SUMMARY:Rabbi Perras Presents - Jewish Humor: It Only Hurts When I Laugh
DESCRIPTION:This program is free and open to the community. \nRefreshments will be served. \nPlease RSVP by Wednesday\, March 7\, to Laura Platzer:\n lplatzer@rivergarden.org or 904-886-8429.
URL:https://rivergarden.org/event/rabbi-perras-presents-jewish-humor-hurts-laugh/
LOCATION:Cohen Auditorium on the River Garden Campus\, 11401 Old St. Augustine Road\, Jacksonville\, FL\, 32258\, United States
ATTACH;FMTTYPE=image/jpeg:https://rivergarden.org/wp-content/uploads/2018/02/Rabbi-Perras-Jewish-Humor.jpg
END:VEVENT
BEGIN:VEVENT
DTSTART;TZID=America/Halifax:20180313T183000
DTEND;TZID=America/Halifax:20180313T200000
DTSTAMP:20260422T181120
CREATED:20180306T150940Z
LAST-MODIFIED:20180306T151010Z
UID:10433-1520965800-1520971200@rivergarden.org
SUMMARY:Northeast Florida Conservatory Concert Band Presents: "Spring is in the Air"
DESCRIPTION:RSVP by Wednesday\, March 7th\, to:\n Laura Platzer — 904-886-8429 or lplatzer@rivergarden.org
URL:https://rivergarden.org/event/northeast-florida-conservatory-concert-band-presents-spring-air/
LOCATION:Cohen Auditorium on the River Garden Campus\, 11401 Old St. Augustine Road\, Jacksonville\, FL\, 32258\, United States
ATTACH;FMTTYPE=image/jpeg:https://rivergarden.org/wp-content/uploads/2018/03/NE-FL-Conservatory-Spring-Concert-lo-res.jpg
END:VEVENT
BEGIN:VEVENT
DTSTART;TZID=America/Halifax:20180312T130000
DTEND;TZID=America/Halifax:20180312T140000
DTSTAMP:20260422T181120
CREATED:20180221T202559Z
LAST-MODIFIED:20180221T202559Z
UID:10415-1520859600-1520863200@rivergarden.org
SUMMARY:Meditation Group at The Coves – Led by Sheila Leiberman
DESCRIPTION:Meditation practice enhances well-being\, and studies have proven it also helps brain function including concentration. \nJoin Coves members and others from the community for an hour of calm…\nWe begin with a discussion concerning a relevant topic and conclude with guided meditation. \nEvery Monday from 1:00 – 2:00 PM\nIn the Coves Clubroom \nRSVP to Cheryl Fisch: 904-886-8936 or cfisch@rivergarden.org
URL:https://rivergarden.org/event/meditation-group-coves-led-sheila-leiberman-6/
LOCATION:The Coves Clubroom on the River Garden campus
ATTACH;FMTTYPE=image/jpeg:https://rivergarden.org/wp-content/uploads/2018/02/meditation-image.jpg
END:VEVENT
BEGIN:VEVENT
DTSTART;TZID=America/Halifax:20180309T100000
DTEND;TZID=America/Halifax:20180309T113000
DTSTAMP:20260422T181120
CREATED:20180214T180015Z
LAST-MODIFIED:20180214T180649Z
UID:10389-1520589600-1520595000@rivergarden.org
SUMMARY:Cindy Edelman Presents - Visions of Love
DESCRIPTION:This program is free and open to the community. \nRefreshments will be served. \nPlease RSVP by Friday\, March 2\, to Laura Platzer: \nlplatzer@rivergarden.org – OR – 904-886-8429
URL:https://rivergarden.org/event/cindy-edelman-presents-visions-love/
LOCATION:Cohen Auditorium on the River Garden Campus\, 11401 Old St. Augustine Road\, Jacksonville\, FL\, 32258\, United States
ATTACH;FMTTYPE=image/jpeg:https://rivergarden.org/wp-content/uploads/2018/02/Cindy-Edelman-Visions-of-Love-lo-res.jpg
END:VEVENT
BEGIN:VEVENT
DTSTART;TZID=America/Halifax:20180307T090000
DTEND;TZID=America/Halifax:20180307T103000
DTSTAMP:20260422T181120
CREATED:20180227T163438Z
LAST-MODIFIED:20180227T165221Z
UID:10426-1520413200-1520418600@rivergarden.org
SUMMARY:Jewish Java - The Impact of Jewish Federation in Jacksonville and Around the World
DESCRIPTION:
URL:https://rivergarden.org/event/jewish-java-impact-jewish-federation-jacksonville-around-world/
LOCATION:Cohen Auditorium on the River Garden Campus\, 11401 Old St. Augustine Road\, Jacksonville\, FL\, 32258\, United States
ATTACH;FMTTYPE=image/jpeg:https://rivergarden.org/wp-content/uploads/2018/02/Java-2018-0307.jpg
END:VEVENT
BEGIN:VEVENT
DTSTART;TZID=America/Halifax:20180305T130000
DTEND;TZID=America/Halifax:20180305T140000
DTSTAMP:20260422T181120
CREATED:20180221T202332Z
LAST-MODIFIED:20180221T202332Z
UID:10413-1520254800-1520258400@rivergarden.org
SUMMARY:Meditation Group at The Coves – Led by Sheila Leiberman
DESCRIPTION:Meditation practice enhances well-being\, and studies have proven it also helps brain function including concentration. \nJoin Coves members and others from the community for an hour of calm…\nWe begin with a discussion concerning a relevant topic and conclude with guided meditation. \nEvery Monday from 1:00 – 2:00 PM\nIn the Coves Clubroom \nRSVP to Cheryl Fisch: 904-886-8936 or cfisch@rivergarden.org
URL:https://rivergarden.org/event/meditation-group-coves-led-sheila-leiberman-5/
LOCATION:The Coves Clubroom on the River Garden campus
ATTACH;FMTTYPE=image/jpeg:https://rivergarden.org/wp-content/uploads/2018/02/meditation-image.jpg
END:VEVENT
BEGIN:VEVENT
DTSTART;TZID=America/Halifax:20180226T130000
DTEND;TZID=America/Halifax:20180226T140000
DTSTAMP:20260422T181120
CREATED:20180202T221329Z
LAST-MODIFIED:20180202T221329Z
UID:10385-1519650000-1519653600@rivergarden.org
SUMMARY:Meditation Group at The Coves - Led by Sheila Leiberman
DESCRIPTION:Meditation practice enhances well-being\, and studies have proven it also helps brain function including concentration. \nJoin Coves members and others from the community for an hour of calm…\nWe begin with a discussion concerning a relevant topic and conclude with guided meditation. \nEvery Monday from 1:00 – 2:00 PM\nIn the Coves Clubroom \nRSVP to Cheryl Fisch: 904-886-8936 or cfisch@rivergarden.org
URL:https://rivergarden.org/event/meditation-group-coves-led-sheila-leiberman-4/
LOCATION:The Coves Clubroom on the River Garden campus
ATTACH;FMTTYPE=image/jpeg:https://rivergarden.org/wp-content/uploads/2018/02/meditation-image.jpg
END:VEVENT
BEGIN:VEVENT
DTSTART;TZID=America/Halifax:20180223T160000
DTEND;TZID=America/Halifax:20180223T170000
DTSTAMP:20260422T181120
CREATED:20180220T155008Z
LAST-MODIFIED:20180220T155008Z
UID:10408-1519401600-1519405200@rivergarden.org
SUMMARY:Shabbat with Hazzan Holzer and Kol Train
DESCRIPTION:We welcome you to join us…
URL:https://rivergarden.org/event/shabbat-hazzan-holzer-kol-train/
LOCATION:Parker Chapel
ATTACH;FMTTYPE=image/jpeg:https://rivergarden.org/wp-content/uploads/2018/02/Shabbat-Services-Kol-Train-and-Holzer.jpg
END:VEVENT
BEGIN:VEVENT
DTSTART;TZID=America/Halifax:20180223T100000
DTEND;TZID=America/Halifax:20180223T113000
DTSTAMP:20260422T181120
CREATED:20180202T171252Z
LAST-MODIFIED:20180202T215751Z
UID:10357-1519380000-1519385400@rivergarden.org
SUMMARY:Embrace the Power of Positive Aging - Part 2 - Dr. Ken Tannenbaum
DESCRIPTION:Getting old is not for the faint of heart\, but the alternative is far less attractive! \nJoin Dr. Tannenbaum for a fun two-part lecture and discussion program aimed at maximizing your enjoyment of aging.  \nRSVP by February 14 to Laura Platzer : 904-886-8429 or lplatzer@rivergarden.org
URL:https://rivergarden.org/event/embrace-power-positive-aging-dr-ken-tannenbaum/
LOCATION:Cohen Auditorium on the River Garden Campus\, 11401 Old St. Augustine Road\, Jacksonville\, FL\, 32258\, United States
ATTACH;FMTTYPE=image/jpeg:https://rivergarden.org/wp-content/uploads/2018/02/Ken-Tannenbaum-Positive-Aging-lower-res.jpg
END:VEVENT
BEGIN:VEVENT
DTSTART;TZID=America/Halifax:20180221T103000
DTEND;TZID=America/Halifax:20180221T120000
DTSTAMP:20260422T181120
CREATED:20180202T173852Z
LAST-MODIFIED:20180202T173852Z
UID:10367-1519209000-1519214400@rivergarden.org
SUMMARY:Reaping Eve's Rewards in the Garden of Eden - Rabbi Merrill Shapiro
DESCRIPTION:This presentation is part one of a 4-program series: \n“Influential Women of the Bible: Examining Persuasive Personalities”. \nThe program is free and open to the community. \nRefreshments will be served during the presentation.  \nPlease RSVP no later than Wednesday\, February 14th to Laura Platzer: lplatzer@rivergarden.org or call 904-886-8429.
URL:https://rivergarden.org/event/reaping-eves-rewards-garden-eden-rabbi-merrill-shapiro/
LOCATION:Cohen Auditorium on the River Garden Campus\, 11401 Old St. Augustine Road\, Jacksonville\, FL\, 32258\, United States
ATTACH;FMTTYPE=image/jpeg:https://rivergarden.org/wp-content/uploads/2018/02/Rabbi-Shapiro-Eves-Rewards-lower-res.jpg
END:VEVENT
BEGIN:VEVENT
DTSTART;TZID=America/Halifax:20180220T100000
DTEND;TZID=America/Halifax:20180220T153000
DTSTAMP:20260422T181120
CREATED:20180201T211024Z
LAST-MODIFIED:20180201T211024Z
UID:10350-1519120800-1519140600@rivergarden.org
SUMMARY:Auxiliary Book Sale... It's Gonna be Huge!
DESCRIPTION:River Garden Auxiliary Book Sale\nTuesday\, February 20\n10 AM – 3:30 PM \nHuge assortment of new and like-new hard and soft cover books. Priced to sell quickly. All proceeds benefit our very special River Garden residents. \nIf you have any books to donate\, they can by dropped off at:\nRiver Garden\, 11401 Old St. Augustine Road\nBeginning Tuesday\, February 13 \nFor further information please call Michele Steinfeld 636-7580 or Bobbi Miller 287-7572. \nYour support is greatly appreciated. \nOpen to the public. Please tell your friends.
URL:https://rivergarden.org/event/auxiliary-book-sale-gonna-huge/
LOCATION:River Garden Lobby
ATTACH;FMTTYPE=image/jpeg:https://rivergarden.org/wp-content/uploads/2018/02/Book-image-book-sale.jpg
END:VEVENT
BEGIN:VEVENT
DTSTART;TZID=America/Halifax:20180219T130000
DTEND;TZID=America/Halifax:20180219T140000
DTSTAMP:20260422T181120
CREATED:20180202T221119Z
LAST-MODIFIED:20180202T221119Z
UID:10383-1519045200-1519048800@rivergarden.org
SUMMARY:Meditation Group at The Coves - Led by Sheila Leiberman
DESCRIPTION:Meditation practice enhances well-being\, and studies have proven it also helps brain function including concentration. \nJoin Coves members and others from the community for an hour of calm…\nWe begin with a discussion concerning a relevant topic and conclude with guided meditation. \nEvery Monday from 1:00 – 2:00 PM\nIn the Coves Clubroom \nRSVP to Cheryl Fisch: 904-886-8936 or cfisch@rivergarden.org
URL:https://rivergarden.org/event/meditation-group-coves-led-sheila-leiberman-3/
LOCATION:The Coves Clubroom on the River Garden campus
ATTACH;FMTTYPE=image/jpeg:https://rivergarden.org/wp-content/uploads/2018/02/meditation-image.jpg
END:VEVENT
BEGIN:VEVENT
DTSTART;TZID=America/Halifax:20180218T103000
DTEND;TZID=America/Halifax:20180218T120000
DTSTAMP:20260422T181120
CREATED:20180201T161627Z
LAST-MODIFIED:20180201T161714Z
UID:10337-1518949800-1518955200@rivergarden.org
SUMMARY:Jewish Genealogy meeting
DESCRIPTION:The International Association of Jewish Genealogical Societies (IAJGS) is a non-profit 501(c)(3).\n One of its objectives is to assist and promote the research of Jewish family history.\n Our newly formed group will provide opportunities for the sharing of Jewish genealogical information\, and we are planning to create a branch of IAJGS in our unserved area. \nWe will be meeting monthly at River Garden. \nNext meeting: Sunday\, February 18 at 10:30 AM\nRefreshments will be provided. \nFor additional information and to RSVP please contact Marla Westberg: marla@westbergfl.com
URL:https://rivergarden.org/event/jewish-genealogy-meeting-2/
LOCATION:Cohen Auditorium on the River Garden Campus\, 11401 Old St. Augustine Road\, Jacksonville\, FL\, 32258\, United States
END:VEVENT
BEGIN:VEVENT
DTSTART;TZID=America/Halifax:20180216T100000
DTEND;TZID=America/Halifax:20180216T113000
DTSTAMP:20260422T181120
CREATED:20180202T172214Z
LAST-MODIFIED:20180202T172325Z
UID:10363-1518775200-1518780600@rivergarden.org
SUMMARY:Embrace the Power of Positive Aging - Part 1 - Dr. Ken Tannenbaum
DESCRIPTION:Getting old is not for the faint of heart\, but the alternative is far less attractive! \nJoin Dr. Tannenbaum for a fun two-part lecture and discussion program aimed at maximizing your enjoyment of aging. \nRSVP by February 9 to Laura Platzer : 904-886-8429 or lplatzer@rivergarden.org
URL:https://rivergarden.org/event/embrace-power-positive-aging-part-1-dr-ken-tannenbaum/
LOCATION:Cohen Auditorium on the River Garden Campus\, 11401 Old St. Augustine Road\, Jacksonville\, FL\, 32258\, United States
ATTACH;FMTTYPE=image/jpeg:https://rivergarden.org/wp-content/uploads/2018/02/Ken-Tannenbaum-Positive-Aging-lower-res.jpg
END:VEVENT
BEGIN:VEVENT
DTSTART;TZID=America/Halifax:20180212T130000
DTEND;TZID=America/Halifax:20180212T140000
DTSTAMP:20260422T181120
CREATED:20180202T220907Z
LAST-MODIFIED:20180202T220907Z
UID:10381-1518440400-1518444000@rivergarden.org
SUMMARY:Meditation Group at The Coves - Led by Sheila Leiberman
DESCRIPTION:Meditation practice enhances well-being\, and studies have proven it also helps brain function including concentration. \nJoin Coves members and others from the community for an hour of calm…\nWe begin with a discussion concerning a relevant topic and conclude with guided meditation. \nEvery Monday from 1:00 – 2:00 PM\nIn the Coves Clubroom \nRSVP to Cheryl Fisch: 904-886-8936 or cfisch@rivergarden.org
URL:https://rivergarden.org/event/meditation-group-coves-led-sheila-leiberman-2/
LOCATION:The Coves Clubroom on the River Garden campus
ATTACH;FMTTYPE=image/jpeg:https://rivergarden.org/wp-content/uploads/2018/02/meditation-image.jpg
END:VEVENT
BEGIN:VEVENT
DTSTART;TZID=America/Halifax:20180209T083000
DTEND;TZID=America/Halifax:20180209T093000
DTSTAMP:20260422T181120
CREATED:20180124T200405Z
LAST-MODIFIED:20180202T174208Z
UID:10277-1518165000-1518168600@rivergarden.org
SUMMARY:Jewish Business Network meeting
DESCRIPTION:River Garden will host the next meeting of Jewish Business Network Jacksonville. \nThe Jewish Business Network is all about bringing the Jewish community together\, developing word-of-mouth based business opportunities and cultivating professional relationships. \nLight breakfast will be served. \nFriday\, February 9\, 2018 from 8:30 – 9:30 AM in the Parker Chapel. \nRSVP a must — no later than Monday\, February 5th — to Zach Cohen – Zach@stjohnsasset.com \n\n 
URL:https://rivergarden.org/event/jewish-business-network-meeting/
LOCATION:Parker Chapel
ATTACH;FMTTYPE=image/jpeg:https://rivergarden.org/wp-content/uploads/2018/02/bagel-schmear-pic.jpg
END:VEVENT
BEGIN:VEVENT
DTSTART;TZID=America/Halifax:20180207T090000
DTEND;TZID=America/Halifax:20180207T103000
DTSTAMP:20260422T181120
CREATED:20180130T160914Z
LAST-MODIFIED:20180130T160914Z
UID:10329-1517994000-1517999400@rivergarden.org
SUMMARY:Jewish Java - Recapturing Life's Highlights
DESCRIPTION:
URL:https://rivergarden.org/event/jewish-java-recapturing-lifes-highlights/
LOCATION:Cohen Auditorium on the River Garden Campus\, 11401 Old St. Augustine Road\, Jacksonville\, FL\, 32258\, United States
ATTACH;FMTTYPE=image/jpeg:https://rivergarden.org/wp-content/uploads/2018/01/Java-2018-0207.jpg
END:VEVENT
BEGIN:VEVENT
DTSTART;TZID=America/Halifax:20180205T130000
DTEND;TZID=America/Halifax:20180205T140000
DTSTAMP:20260422T181120
CREATED:20180202T220404Z
LAST-MODIFIED:20180202T220404Z
UID:10373-1517835600-1517839200@rivergarden.org
SUMMARY:Meditation Group at The Coves - Led by Sheila Leiberman
DESCRIPTION:Meditation practice enhances well-being\, and studies have proven it also helps brain function including concentration. \nJoin Coves members and others from the community for an hour of calm…\nWe begin with a discussion concerning a relevant topic and conclude with guided meditation. \nEvery Monday from 1:00 – 2:00 PM\nIn the Coves Clubroom \nRSVP to Cheryl Fisch: 904-886-8936 or cfisch@rivergarden.org
URL:https://rivergarden.org/event/meditation-group-coves-led-sheila-leiberman/
ATTACH;FMTTYPE=image/jpeg:https://rivergarden.org/wp-content/uploads/2018/02/meditation-image.jpg
END:VEVENT
BEGIN:VEVENT
DTSTART;TZID=America/Halifax:20180203T190000
DTEND;TZID=America/Halifax:20180203T223000
DTSTAMP:20260422T181120
CREATED:20180115T230817Z
LAST-MODIFIED:20180115T230817Z
UID:10272-1517684400-1517697000@rivergarden.org
SUMMARY:Food\, Film & Fun with Auxiliary!
DESCRIPTION:Delicious Deli Dinner served\nAfter dinner\, play a card game of your choice\, Mah Jongg\, Scrabble or your game of choice. \nFor those who won’t be playing games\, we will show a movie for you to watch. \nOnly $18 per person!\nPlease make checks out to River Garden Auxiliary \nRSVP by Jan 29 by mailing a check to:\nRhoda Goldstein\n11710 Tierra Verde Lane\nJacksonville\, FL 32259 \nThank you! We are looking forward to spending this evening of Food\, Film & Fun at River Garden with a group of supporters!
URL:https://rivergarden.org/event/food-film-fun-auxiliary/
END:VEVENT
BEGIN:VEVENT
DTSTART;TZID=America/Halifax:20180119T103000
DTEND;TZID=America/Halifax:20180119T113000
DTSTAMP:20260422T181120
CREATED:20180111T201405Z
LAST-MODIFIED:20180111T201441Z
UID:10267-1516357800-1516361400@rivergarden.org
SUMMARY:Stephen Whitfield Presents: The Pentagon Papers as History
DESCRIPTION:RSVP no later than Monday\, January 15th\n to Laura Platzer: lplatzer@rivergarden.org -or- 904-886-8429
URL:https://rivergarden.org/event/stephen-whitfield-presents-pentagon-papers-history/
ATTACH;FMTTYPE=image/jpeg:https://rivergarden.org/wp-content/uploads/2018/01/Steve-Whitfield-Pentagon-Papers-lo-res.jpg
END:VEVENT
BEGIN:VEVENT
DTSTART;TZID=America/Halifax:20180110T103000
DTEND;TZID=America/Halifax:20180110T113000
DTSTAMP:20260422T181120
CREATED:20171114T153813Z
LAST-MODIFIED:20171227T221821Z
UID:10170-1515580200-1515583800@rivergarden.org
SUMMARY:Cindy Edelman Presents...
DESCRIPTION:Join Cindy Edelman as she presents Arthur Szyk:  An Artistic Warrior of the 20th Century. \nCindy will provide an in-depth look into a Jewish political artist who advocated civil and human rights.
URL:https://rivergarden.org/event/cindy-edelman-presents/
LOCATION:Cohen Auditorium on the River Garden Campus\, 11401 Old St. Augustine Road\, Jacksonville\, FL\, 32258\, United States
ATTACH;FMTTYPE=image/jpeg:https://rivergarden.org/wp-content/uploads/2017/12/Cindy-Edelman-Arthur-Szyk-program.jpg
END:VEVENT
BEGIN:VEVENT
DTSTART;TZID=America/Halifax:20180103T090000
DTEND;TZID=America/Halifax:20180103T103000
DTSTAMP:20260422T181120
CREATED:20171129T212318Z
LAST-MODIFIED:20171129T212420Z
UID:10201-1514970000-1514975400@rivergarden.org
SUMMARY:Donna Orender - One of the Ten Most Powerful Women in Sports
DESCRIPTION:RSVP  –  BY NOVEMBER 29th  –  IS A MUST:\n To Isabel Balotin\, Shalom Jacksonville Director\n Phone: 904-448-5000 x1206\n Email: shalomjax@jewishjacksonville.org
URL:https://rivergarden.org/event/donna-orender-one-top-ten-powerful-women-sports/
LOCATION:Cohen Auditorium on the River Garden Campus\, 11401 Old St. Augustine Road\, Jacksonville\, FL\, 32258\, United States
ATTACH;FMTTYPE=image/jpeg:https://rivergarden.org/wp-content/uploads/2017/11/Java-2018-0103-higher-res.jpg
END:VEVENT
BEGIN:VEVENT
DTSTART;TZID=America/Halifax:20171219T173000
DTEND;TZID=America/Halifax:20171219T173000
DTSTAMP:20260422T181120
CREATED:20171208T000536Z
LAST-MODIFIED:20171208T000536Z
UID:10228-1513704600-1513704600@rivergarden.org
SUMMARY:8th Night of Chanukah – Sundown 5:29 PM
DESCRIPTION:
URL:https://rivergarden.org/event/8th-night-chanukah-sundown-529-pm/
END:VEVENT
BEGIN:VEVENT
DTSTART;TZID=America/Halifax:20171218T173000
DTEND;TZID=America/Halifax:20171218T173000
DTSTAMP:20260422T181120
CREATED:20171208T000429Z
LAST-MODIFIED:20171208T000429Z
UID:10226-1513618200-1513618200@rivergarden.org
SUMMARY:7th Night of Chanukah – Sundown 5:29 PM
DESCRIPTION:
URL:https://rivergarden.org/event/7th-night-chanukah-sundown-529-pm/
END:VEVENT
BEGIN:VEVENT
DTSTART;TZID=America/Halifax:20171217T173000
DTEND;TZID=America/Halifax:20171217T173000
DTSTAMP:20260422T181120
CREATED:20171208T000228Z
LAST-MODIFIED:20171208T000228Z
UID:10224-1513531800-1513531800@rivergarden.org
SUMMARY:6th Night of Chanukah – Sundown 5:28 PM
DESCRIPTION:
URL:https://rivergarden.org/event/6th-night-chanukah-sundown-528-pm/
END:VEVENT
BEGIN:VEVENT
DTSTART;TZID=America/Halifax:20171216T173000
DTEND;TZID=America/Halifax:20171216T173000
DTSTAMP:20260422T181120
CREATED:20171208T000107Z
LAST-MODIFIED:20171208T000107Z
UID:10222-1513445400-1513445400@rivergarden.org
SUMMARY:5th Night of Chanukah – Sundown 5:28 PM
DESCRIPTION:
URL:https://rivergarden.org/event/5th-night-chanukah-sundown-528-pm/
END:VEVENT
BEGIN:VEVENT
DTSTART;TZID=America/Halifax:20171215T173000
DTEND;TZID=America/Halifax:20171215T173000
DTSTAMP:20260422T181120
CREATED:20171207T235944Z
LAST-MODIFIED:20171207T235944Z
UID:10220-1513359000-1513359000@rivergarden.org
SUMMARY:4th Night of Chanukah – Sundown 5:28 PM
DESCRIPTION:
URL:https://rivergarden.org/event/4th-night-chanukah-sundown-528-pm/
END:VEVENT
END:VCALENDAR