BEGIN:VCALENDAR
VERSION:2.0
PRODID:-//River Garden - ECPv6.15.20//NONSGML v1.0//EN
CALSCALE:GREGORIAN
METHOD:PUBLISH
X-WR-CALNAME:River Garden
X-ORIGINAL-URL:https://rivergarden.org
X-WR-CALDESC:Events for River Garden
REFRESH-INTERVAL;VALUE=DURATION:PT1H
X-Robots-Tag:noindex
X-PUBLISHED-TTL:PT1H
BEGIN:VTIMEZONE
TZID:America/Halifax
BEGIN:DAYLIGHT
TZOFFSETFROM:-0400
TZOFFSETTO:-0300
TZNAME:ADT
DTSTART:20120311T060000
END:DAYLIGHT
BEGIN:STANDARD
TZOFFSETFROM:-0300
TZOFFSETTO:-0400
TZNAME:AST
DTSTART:20121104T050000
END:STANDARD
BEGIN:DAYLIGHT
TZOFFSETFROM:-0400
TZOFFSETTO:-0300
TZNAME:ADT
DTSTART:20130310T060000
END:DAYLIGHT
BEGIN:STANDARD
TZOFFSETFROM:-0300
TZOFFSETTO:-0400
TZNAME:AST
DTSTART:20131103T050000
END:STANDARD
BEGIN:DAYLIGHT
TZOFFSETFROM:-0400
TZOFFSETTO:-0300
TZNAME:ADT
DTSTART:20140309T060000
END:DAYLIGHT
BEGIN:STANDARD
TZOFFSETFROM:-0300
TZOFFSETTO:-0400
TZNAME:AST
DTSTART:20141102T050000
END:STANDARD
BEGIN:DAYLIGHT
TZOFFSETFROM:-0400
TZOFFSETTO:-0300
TZNAME:ADT
DTSTART:20150308T060000
END:DAYLIGHT
BEGIN:STANDARD
TZOFFSETFROM:-0300
TZOFFSETTO:-0400
TZNAME:AST
DTSTART:20151101T050000
END:STANDARD
BEGIN:DAYLIGHT
TZOFFSETFROM:-0400
TZOFFSETTO:-0300
TZNAME:ADT
DTSTART:20160313T060000
END:DAYLIGHT
BEGIN:STANDARD
TZOFFSETFROM:-0300
TZOFFSETTO:-0400
TZNAME:AST
DTSTART:20161106T050000
END:STANDARD
BEGIN:DAYLIGHT
TZOFFSETFROM:-0400
TZOFFSETTO:-0300
TZNAME:ADT
DTSTART:20170312T060000
END:DAYLIGHT
BEGIN:STANDARD
TZOFFSETFROM:-0300
TZOFFSETTO:-0400
TZNAME:AST
DTSTART:20171105T050000
END:STANDARD
END:VTIMEZONE
BEGIN:VEVENT
DTSTART;TZID=America/Halifax:20160407T103000
DTEND;TZID=America/Halifax:20160407T140000
DTSTAMP:20260423T014917
CREATED:20160302T172514Z
LAST-MODIFIED:20160302T172514Z
UID:8603-1460025000-1460037600@rivergarden.org
SUMMARY:River Garden Auxiliary - Special Event
DESCRIPTION:The theme for this year’s very Special Event is “High Tea Party”. DRESS in your Hats\, Pearls and Heels; SIP and SEE Elegant Fashion Trends; SHOP our Silent Auction! \nThere will be excellent raffle prizes\, including vacation getaways… You will also be treated to an exciting and beautiful fashion show by Leila’s. \nBe sure to RSVP right away! For further information\, call 904-651-6607 \nMinimum donation is $50\, and sponsorships are available. Tickets will also be available at the door.
URL:https://rivergarden.org/event/river-garden-auxiliary-special-event-2/
LOCATION:Jacksonville Marriott Southpoint Hotel\, 4670 Salisbury Road\, Jacksonville\, FL\, 32256
END:VEVENT
BEGIN:VEVENT
DTSTART;TZID=America/Halifax:20160313T150000
DTEND;TZID=America/Halifax:20160313T180000
DTSTAMP:20260423T014917
CREATED:20151221T224932Z
LAST-MODIFIED:20151221T224932Z
UID:8519-1457881200-1457892000@rivergarden.org
SUMMARY:Anniversary Day 2016 - 70 Years!
DESCRIPTION:
URL:https://rivergarden.org/event/anniversary-day-2016-70-years/
LOCATION:River Garden Campus\, 11401 Old St. Augustine Road\, Jacksonville\, FL\, 32258\, United States
END:VEVENT
BEGIN:VEVENT
DTSTART;TZID=America/Halifax:20151209T103000
DTEND;TZID=America/Halifax:20151209T231500
DTSTAMP:20260423T014917
CREATED:20151209T154810Z
LAST-MODIFIED:20151209T154810Z
UID:8295-1449657000-1449702900@rivergarden.org
SUMMARY:Latkes with Harry!
DESCRIPTION:
URL:https://rivergarden.org/event/latkes-with-harry/
LOCATION:Frisch Family Pavilion\, River Garden campus
END:VEVENT
BEGIN:VEVENT
DTSTART;TZID=America/Halifax:20150429T100000
DTEND;TZID=America/Halifax:20150429T190000
DTSTAMP:20260423T014917
CREATED:20140305T010650Z
LAST-MODIFIED:20150228T001614Z
UID:2292-1430301600-1430334000@rivergarden.org
SUMMARY:Golf Classic 2015
DESCRIPTION:19th Annual River Garden Golf Classic It’s that time of year again! The 19th Annual River Garden Classic Golf Tournament will tee off Wednesday\, April 29\, 2015 at Deerwood Country Club. We proudly welcome back Title Sponsor Hardage-Giddens Funeral Homes & Cemeteries\, and long time tournament chairs Mark Lodinger and Michael Price. \nRegistration is open! Sponsorships are available from $5\,000 to $500 and include player spots\, a delicious deli lunch prior to the 12:30 p.m. shotgun start and an evening Awards Reception with heavy hors d’oeuvres\, a participation gift for each golfer\, and signage on one hole. This great day of golf in support of River Garden is enhanced with fun contests throughout the course\, skill prizes awarded on each hole and the opportunity to win lots of great door prizes. \nTournament Proceeds benefit The Albert Z. Fleet Geriatric Training Center at River Garden. The Training Center provides continuing education for existing staff and is also a Florida licensed not-for-profit postsecondary school offering classes to train Nursing Assistants. Our commitment to continuous learning is part of our goal to provide the finest care for the residents of our Home. We are dedicated to excellence in care and training\, and our staff is the reason River Garden is an industry leader in Long Term Care and the recipient of an unprecedented 7 Governor’s Gold Seal Awards for Excellence in Long Term Care. \n Click here to register today!
URL:https://rivergarden.org/event/golf-classic-2014/
LOCATION:FL
END:VEVENT
BEGIN:VEVENT
DTSTART;TZID=America/Halifax:20150423T110000
DTEND;TZID=America/Halifax:20150423T133000
DTSTAMP:20260423T014917
CREATED:20150122T212908Z
LAST-MODIFIED:20150122T212908Z
UID:6452-1429786800-1429795800@rivergarden.org
SUMMARY:River Garden Auxiliary - Special Event
DESCRIPTION:River Garden Auxiliary invites you to come to “The Big Apple”. \nSilent auction\, lunch\, fashion show\, and raffle
URL:https://rivergarden.org/event/river-garden-auxiliary-special-event/
LOCATION:Jacksonville Marriott Southpoint Hotel\, 4670 Salisbury Road\, Jacksonville\, FL\, 32256
END:VEVENT
BEGIN:VEVENT
DTSTART;TZID=America/Halifax:20150322T150000
DTEND;TZID=America/Halifax:20150322T180000
DTSTAMP:20260423T014917
CREATED:20150207T005133Z
LAST-MODIFIED:20150207T005133Z
UID:6548-1427036400-1427047200@rivergarden.org
SUMMARY:69th Anniversary Day Celebration!
DESCRIPTION:River Garden’s 69th Anniversary Day celebration will be held Sunday\, March 22\, from 3:00 to 6:00 pm. Debby Kaye\, River Garden Home board member\, will chair the day which has become a wonderful intergenerational community event. \nThe afternoon will include musical entertainment by One More Time\, a barbecue\, kiddie train rides\, a bounce house\, pony rides\, clowns\, face painting and wonderful desserts provided by the River Garden Auxiliary. Sharon Smith and Alice Sherman will serve as the Auxiliary’s co-hostesses for the afternoon. \nIn addition to the outdoor festivities\, the annual business meeting of River Garden Senior Services will begin at 4:30 pm. New officers and board members will be installed. \nIt is hoped that many community members will attend this meeting as this important moment in River Garden’s history is celebrated. River Garden has served thousands of families in this community over these past 69 years. Come and celebrate what River Garden – with support from the entire community — has accomplished!
URL:https://rivergarden.org/event/69th-anniversary-day-celebration/
LOCATION:River Garden Campus\, 11401 Old St. Augustine Road\, Jacksonville\, FL\, 32258\, United States
END:VEVENT
BEGIN:VEVENT
DTSTART;TZID=America/Halifax:20150315T140000
DTEND;TZID=America/Halifax:20150315T150000
DTSTAMP:20260423T014917
CREATED:20150214T015027Z
LAST-MODIFIED:20150305T031048Z
UID:6550-1426428000-1426431600@rivergarden.org
SUMMARY:Jewish A Cappella at River Garden
DESCRIPTION:Rak Shalom\, a Jewish a cappella group comprised of students from the University of Maryland\, will tour Florida during their Spring Break\, and Jacksonville is their first stop. \nEnjoy Israeli and American songs in the a cappella style\, right here at River Garden! We hope you will join us for this fun-filled event. \n  \n 
URL:https://rivergarden.org/event/jewish-a-cappella-at-river-garden/
LOCATION:FL
END:VEVENT
BEGIN:VEVENT
DTSTART;TZID=America/Halifax:20150224T103000
DTEND;TZID=America/Halifax:20150224T113000
DTSTAMP:20260423T014917
CREATED:20141230T220402Z
LAST-MODIFIED:20141230T223827Z
UID:6218-1424773800-1424777400@rivergarden.org
SUMMARY:Jewish Humor - Another Look...
DESCRIPTION:Please join us in River Garden’s Cohen Auditorium on February 24th at 10:30 AM for a very entertaining hour with Rabbi Raskind from Temple Bet Yam in St Augustine. The Yiddishkeit of the Old World will be explored as you are given a glimpse into the personalities and Jewish culture of the time. We can promise you that your day will begin with a smile. Come for bagels and a schmear\, and enjoy! This free event is open to the community. \n 
URL:https://rivergarden.org/event/jewish-humor-another-look/
LOCATION:FL
END:VEVENT
BEGIN:VEVENT
DTSTART;TZID=America/Halifax:20141122T190000
DTEND;TZID=America/Halifax:20141122T190000
DTSTAMP:20260423T014917
CREATED:20140819T204539Z
LAST-MODIFIED:20140924T192045Z
UID:4913-1416682800-1416682800@rivergarden.org
SUMMARY:River Garden Gala - The River Garden of Eden
DESCRIPTION:Sawgrass Marriott Golf Resort & Spa\nSaturday\, November 22\, 2014  7:00 p.m.\nChairs: Debbie & Jeff Parker\nEntertainment provided by The Atlanta Party Band\nBenefiting the\nRiver Garden Hebrew Home/\nWolfson Health & Aging Center \nLate night in the Garden?\nThe evening continues at our “After Party Experience.”  It would be a ‘sin’ not to come… \nwww.rivergardengala.wordpress.com\nFind us on Facebook – RiverGardenGala \nReservations and sponsorships\nare available now.\nFor information please contact\nKathy Osterer\n904-260-1818 or kosterer@rivergarden.org
URL:https://rivergarden.org/event/river-garden-gala-a-river-garden-of-eden/
LOCATION:FL
END:VEVENT
BEGIN:VEVENT
DTSTART;TZID=America/Halifax:20140401T130000
DTEND;TZID=America/Halifax:20140401T173000
DTSTAMP:20260423T014917
CREATED:20140305T011714Z
LAST-MODIFIED:20140305T012949Z
UID:2294-1396357200-1396373400@rivergarden.org
SUMMARY:AJAS to Visit River Garden Campus
DESCRIPTION:AJAS – The Association of Jewish Aging Services\, is holding its 2014 Annual Conference in Jacksonville\, Florida. AJAS is an association of not-for-profit community-based organizations\, rooted in Jewish values\, which promotes and supports the delivery of services to an aging population. \nMany attendees will visit River Garden on Tuesday afternoon\, April 1st\, and will be treated to a keynote address from Larry Minnix\, a campus tour and welcome reception. Mr. Minnix is CEO of LeadingAge\, whose membership of 6\,000 not-for-profit organizations represents the entire field of aging services.
URL:https://rivergarden.org/event/ajas-to-visit-river-garden-campus/
LOCATION:FL
END:VEVENT
BEGIN:VEVENT
DTSTART;TZID=America/Halifax:20140323T150000
DTEND;TZID=America/Halifax:20140323T180000
DTSTAMP:20260423T014917
CREATED:20131023T022944Z
LAST-MODIFIED:20140305T011451Z
UID:532-1395586800-1395597600@rivergarden.org
SUMMARY:68th Anniversary Day
DESCRIPTION:  \nJoin The Celebration – River Garden’s 68th Anniversary \nRiver Garden’s 68th Anniversary Day celebration will be held Sunday\, March 23\, from 3:00 to 6:00 pm. Randy Kammer\, River Garden Home board member\, will chair the day which has become a wonderful intergenerational community event. \nThe afternoon will include musical entertainment by Beach Street Boogie\, aka Dan & Viv\, a barbecue\, kiddie train rides\, a bounce house\, pony rides\, clowns\, face painting and wonderful desserts provided by the River Garden Auxiliary. Sharon Smith and Alice Sherman will serve as the Auxiliary’s co-hostesses for the afternoon. \nIn addition to the outdoor festivities\, the annual business meeting of River Garden Senior Services will begin at 4:30 pm. New officers and board members will be installed. \nIt is hoped that many community members will attend this meeting as this important moment in River Garden’s history is celebrated. River Garden has served thousands of families in this community over these past 68 years. Come and celebrate what River Garden – with support from the entire community — has accomplished! \n“Each year more and more people come out and join the River Garden family in celebrating this wonderful Home and campus that our Jewish community has built\,” said C.E.O.\, Martin Goetz.  “All of us can be truly proud.” \nThe entire community is invited to attend this celebration. River Garden residents\, families and staff look forward to celebrating with you! \nAnnual Meeting at 4:30 followed by Tombola Drawing.\nMusical entertainment\, barbeque\, face painting\, bounce house\, clowns & more.\nAn afternoon of food and fun for the entire family!\nRain or shine ~ Everyone is welcome! \n 
URL:https://rivergarden.org/event/68th-anniversary-day/
LOCATION:River Garden Campus\, 11401 Old St. Augustine Road\, Jacksonville\, 32258\, United States
END:VEVENT
BEGIN:VEVENT
DTSTART;TZID=America/Halifax:20131205T143000
DTEND;TZID=America/Halifax:20131205T153000
DTSTAMP:20260423T014917
CREATED:20131127T001500Z
LAST-MODIFIED:20131202T204327Z
UID:727-1386253800-1386257400@rivergarden.org
SUMMARY:8th Day of Chanukah Activity
DESCRIPTION:  \nPearl Harbor Day Program\, by Al Cory\, in the Cohen Auditorium at 2:30 pm
URL:https://rivergarden.org/event/8th-day-of-chanukah-activity/
LOCATION:FL
END:VEVENT
BEGIN:VEVENT
DTSTART;TZID=America/Halifax:20131204T100000
DTEND;TZID=America/Halifax:20131204T153000
DTSTAMP:20260423T014917
CREATED:20131127T001402Z
LAST-MODIFIED:20131202T204313Z
UID:726-1386151200-1386171000@rivergarden.org
SUMMARY:7th Day of Chanukah Activity
DESCRIPTION:  \nJJC Preschoolers’ Chanukah program in the Cohen Auditorium at 10:00 am ••• Rabbi Avi Feigenbaum in the T1 Clubroom at 1:30 pm ••• Israeli Folk Dancing in the Cohen Auditorium at 2:30 pm ••• Light the 8th Chanukah candle at sundown
URL:https://rivergarden.org/event/7th-day-of-chanukah-activity/
LOCATION:FL
END:VEVENT
BEGIN:VEVENT
DTSTART;TZID=America/Halifax:20131203T092500
DTEND;TZID=America/Halifax:20131203T150000
DTSTAMP:20260423T014917
CREATED:20131127T000111Z
LAST-MODIFIED:20131202T204248Z
UID:724-1386062700-1386082800@rivergarden.org
SUMMARY:6th Day of Chanukah Activity
DESCRIPTION:  \nLatkes with Rabbi in the Frisch Family Pavilion 9:30-11:00 am ••• The Eight Notes of Chanukah and Party in the Cohen Auditorium 1:00-3:00 pm ••• Light the 7th Chanukah candle at sundown
URL:https://rivergarden.org/event/6th-day-of-chanukah-activity/
LOCATION:FL
END:VEVENT
BEGIN:VEVENT
DTSTART;TZID=America/Halifax:20131202T133000
DTEND;TZID=America/Halifax:20131202T160000
DTSTAMP:20260423T014917
CREATED:20131126T235852Z
LAST-MODIFIED:20131202T204422Z
UID:723-1385991000-1386000000@rivergarden.org
SUMMARY:5th Day of Chanukah Activity
DESCRIPTION:  \nChanukah Bingo at 1:30 pm ••• Holiday Workshop with Haven Hospice in the Parker Chapel at 3:00 pm ••• Light the 6th Chanukah candle at sundown
URL:https://rivergarden.org/event/5th-day-of-chanukah-activity/
LOCATION:FL
END:VEVENT
BEGIN:VEVENT
DTSTART;TZID=America/Halifax:20131201T103000
DTEND;TZID=America/Halifax:20131201T113000
DTSTAMP:20260423T014917
CREATED:20131126T234643Z
LAST-MODIFIED:20131127T001035Z
UID:721-1385893800-1385897400@rivergarden.org
SUMMARY:4th Day of Chanukah Activity
DESCRIPTION:  \nCrafts with the JCA kids\, in the Frisch Family Pavilion ••• Light the 5th Chanukah candle at sundown
URL:https://rivergarden.org/event/4th-day-of-chanukah-activity/
LOCATION:FL
END:VEVENT
BEGIN:VEVENT
DTSTART;VALUE=DATE:20131130
DTEND;VALUE=DATE:20131201
DTSTAMP:20260423T014917
CREATED:20131126T234922Z
LAST-MODIFIED:20131127T000534Z
UID:722-1385769600-1385855999@rivergarden.org
SUMMARY:3rd Day of Chanukah
DESCRIPTION:  \nLight the 4th Chanukah candle at sundown
URL:https://rivergarden.org/event/3rd-day-of-chanukah/
LOCATION:FL
END:VEVENT
BEGIN:VEVENT
DTSTART;TZID=America/Halifax:20131129T100000
DTEND;TZID=America/Halifax:20131129T110000
DTSTAMP:20260423T014917
CREATED:20131126T234422Z
LAST-MODIFIED:20131127T001013Z
UID:719-1385719200-1385722800@rivergarden.org
SUMMARY:2nd Day of Chanukah Activity
DESCRIPTION:  \nMrs. Schmaltz “Sings the Classics” in the Cohen Auditorium ••• Light the 3rd Chanukah candle at sundown
URL:https://rivergarden.org/event/2nd-day-of-chanukah/
LOCATION:FL
END:VEVENT
BEGIN:VEVENT
DTSTART;VALUE=DATE:20131128
DTEND;VALUE=DATE:20131129
DTSTAMP:20260423T014917
CREATED:20131126T234016Z
LAST-MODIFIED:20131127T000952Z
UID:717-1385596800-1385683199@rivergarden.org
SUMMARY:1st Day of Chanukah and Thanksgiving Day
DESCRIPTION:  \nHappy Chanukah and Happy Thanksgiving! ••• Light the 2nd Chanukah candle at sundown
URL:https://rivergarden.org/event/1st-day-of-chanukah/
LOCATION:FL
END:VEVENT
BEGIN:VEVENT
DTSTART;TZID=America/Halifax:20131127T172500
DTEND;TZID=America/Halifax:20131204T172500
DTSTAMP:20260423T014917
CREATED:20131023T181530Z
LAST-MODIFIED:20131127T000435Z
UID:536-1385573100-1386177900@rivergarden.org
SUMMARY:Chanukah 2013
DESCRIPTION:  \nLight the 1st Chanukah candle Wednesday November 27th at sundown
URL:https://rivergarden.org/event/536/
LOCATION:FL
END:VEVENT
END:VCALENDAR