BEGIN:VCALENDAR
VERSION:2.0
PRODID:-//River Garden - ECPv6.15.20//NONSGML v1.0//EN
CALSCALE:GREGORIAN
METHOD:PUBLISH
X-WR-CALNAME:River Garden
X-ORIGINAL-URL:https://rivergarden.org
X-WR-CALDESC:Events for River Garden
REFRESH-INTERVAL;VALUE=DURATION:PT1H
X-Robots-Tag:noindex
X-PUBLISHED-TTL:PT1H
BEGIN:VTIMEZONE
TZID:America/New_York
BEGIN:DAYLIGHT
TZOFFSETFROM:-0500
TZOFFSETTO:-0400
TZNAME:EDT
DTSTART:20190310T070000
END:DAYLIGHT
BEGIN:STANDARD
TZOFFSETFROM:-0400
TZOFFSETTO:-0500
TZNAME:EST
DTSTART:20191103T060000
END:STANDARD
BEGIN:DAYLIGHT
TZOFFSETFROM:-0500
TZOFFSETTO:-0400
TZNAME:EDT
DTSTART:20200308T070000
END:DAYLIGHT
BEGIN:STANDARD
TZOFFSETFROM:-0400
TZOFFSETTO:-0500
TZNAME:EST
DTSTART:20201101T060000
END:STANDARD
BEGIN:DAYLIGHT
TZOFFSETFROM:-0500
TZOFFSETTO:-0400
TZNAME:EDT
DTSTART:20210314T070000
END:DAYLIGHT
BEGIN:STANDARD
TZOFFSETFROM:-0400
TZOFFSETTO:-0500
TZNAME:EST
DTSTART:20211107T060000
END:STANDARD
BEGIN:DAYLIGHT
TZOFFSETFROM:-0500
TZOFFSETTO:-0400
TZNAME:EDT
DTSTART:20220313T070000
END:DAYLIGHT
BEGIN:STANDARD
TZOFFSETFROM:-0400
TZOFFSETTO:-0500
TZNAME:EST
DTSTART:20221106T060000
END:STANDARD
BEGIN:DAYLIGHT
TZOFFSETFROM:-0500
TZOFFSETTO:-0400
TZNAME:EDT
DTSTART:20230312T070000
END:DAYLIGHT
BEGIN:STANDARD
TZOFFSETFROM:-0400
TZOFFSETTO:-0500
TZNAME:EST
DTSTART:20231105T060000
END:STANDARD
BEGIN:DAYLIGHT
TZOFFSETFROM:-0500
TZOFFSETTO:-0400
TZNAME:EDT
DTSTART:20240310T070000
END:DAYLIGHT
BEGIN:STANDARD
TZOFFSETFROM:-0400
TZOFFSETTO:-0500
TZNAME:EST
DTSTART:20241103T060000
END:STANDARD
END:VTIMEZONE
BEGIN:VTIMEZONE
TZID:America/Halifax
BEGIN:DAYLIGHT
TZOFFSETFROM:-0400
TZOFFSETTO:-0300
TZNAME:ADT
DTSTART:20190310T060000
END:DAYLIGHT
BEGIN:STANDARD
TZOFFSETFROM:-0300
TZOFFSETTO:-0400
TZNAME:AST
DTSTART:20191103T050000
END:STANDARD
BEGIN:DAYLIGHT
TZOFFSETFROM:-0400
TZOFFSETTO:-0300
TZNAME:ADT
DTSTART:20200308T060000
END:DAYLIGHT
BEGIN:STANDARD
TZOFFSETFROM:-0300
TZOFFSETTO:-0400
TZNAME:AST
DTSTART:20201101T050000
END:STANDARD
BEGIN:DAYLIGHT
TZOFFSETFROM:-0400
TZOFFSETTO:-0300
TZNAME:ADT
DTSTART:20210314T060000
END:DAYLIGHT
BEGIN:STANDARD
TZOFFSETFROM:-0300
TZOFFSETTO:-0400
TZNAME:AST
DTSTART:20211107T050000
END:STANDARD
END:VTIMEZONE
BEGIN:VEVENT
DTSTART;TZID=America/New_York:20231110T100000
DTEND;TZID=America/New_York:20231110T120000
DTSTAMP:20260422T022633
CREATED:20230914T160534Z
LAST-MODIFIED:20230914T160534Z
UID:14816-1699610400-1699617600@rivergarden.org
SUMMARY:JCA Cultural Arts Series - Feature Film "10 Questions for Henry Ford"
DESCRIPTION:The 2023 JCA Cultural Arts festival is offering a few events at River Garden! \nJoin us for feature film event at River Garden. \nFriday\, November 10\, 2023 \n10:00 AM – 12:00 PM \nRefreshments provided.
URL:https://rivergarden.org/event/jca-cultural-arts-series-feature-film-10-questions-for-henry-ford/
LOCATION:Cohen Auditorium on the River Garden Campus\, 11401 Old St. Augustine Road\, Jacksonville\, FL\, 32258\, United States
END:VEVENT
BEGIN:VEVENT
DTSTART;TZID=America/New_York:20231103T120000
DTEND;TZID=America/New_York:20231223T130000
DTSTAMP:20260422T022633
CREATED:20230914T160150Z
LAST-MODIFIED:20230914T164021Z
UID:14812-1699012800-1703336400@rivergarden.org
SUMMARY:JCA Cultural Art Series - Book Review Live Stream Event (1)
DESCRIPTION:The 2023 JCA Cultural Arts festival is offering a few events at River Garden! \nJoin us for an author-hosted live stream event at River Garden. \nFriday\, November 3\, 2023 \n12:00-1:00 PM \nRefreshments provided.
URL:https://rivergarden.org/event/jca-cultural-art-series-book-review-live-stream-event-1/
LOCATION:Cohen Auditorium on the River Garden Campus\, 11401 Old St. Augustine Road\, Jacksonville\, FL\, 32258\, United States
END:VEVENT
BEGIN:VEVENT
DTSTART;TZID=America/New_York:20231026T100000
DTEND;TZID=America/New_York:20231026T113000
DTSTAMP:20260422T022633
CREATED:20230501T183130Z
LAST-MODIFIED:20230501T183130Z
UID:14610-1698314400-1698319800@rivergarden.org
SUMMARY:AARP Smart DriverTek
DESCRIPTION:October 26\, 2023\n10-11:30AM \nComplimentary Class for all adults who are interested in learning more about new vehicle technology. \nAARP Instructors teach all about the latest high-tech safety features in your current car\, or what technology to look for when shopping for a new car. The safety benefits of blind spot warning systems\, forward collision warnings and more.
URL:https://rivergarden.org/event/aarp-smart-drivertek-2/
LOCATION:Cohen Auditorium on the River Garden Campus\, 11401 Old St. Augustine Road\, Jacksonville\, FL\, 32258\, United States
END:VEVENT
BEGIN:VEVENT
DTSTART;TZID=America/New_York:20230809T153000
DTEND;TZID=America/New_York:20230809T170000
DTSTAMP:20260422T022633
CREATED:20230501T171421Z
LAST-MODIFIED:20230501T171421Z
UID:14595-1691595000-1691600400@rivergarden.org
SUMMARY:Alzheimer's Association Support Group
DESCRIPTION:ALZHEIMER’S ASSOCIATION SUPPORT GROUP\n2ND WEDNESDAYS\, May 10 | June 14 | July 12 | August 9\nIn-Person with Dr. Sue Krall | 3:30 PM\nat River Garden Parker Chapel\n11401 Old St. Augustine Road\, 32258\nQuestions? CALL (904) 288-7851\nEMAIL jglassman@rivergarden.org
URL:https://rivergarden.org/event/alzheimers-association-support-group-6/
LOCATION:Parker Family Chapel on the River Garden campus\, 11401 Old St. Augustine Road\, Jacksonville\, FL\, 32258\, United States
END:VEVENT
BEGIN:VEVENT
DTSTART;TZID=America/New_York:20230712T153000
DTEND;TZID=America/New_York:20230712T170000
DTSTAMP:20260422T022633
CREATED:20230501T171333Z
LAST-MODIFIED:20230501T171333Z
UID:14593-1689175800-1689181200@rivergarden.org
SUMMARY:Alzheimer's Association Support Group
DESCRIPTION:ALZHEIMER’S ASSOCIATION SUPPORT GROUP\n2ND WEDNESDAYS\, May 10 | June 14 | July 12 | August 9\nIn-Person with Dr. Sue Krall | 3:30 PM\nat River Garden Parker Chapel\n11401 Old St. Augustine Road\, 32258\nQuestions? CALL (904) 288-7851\nEMAIL jglassman@rivergarden.org
URL:https://rivergarden.org/event/alzheimers-association-support-group-5/
LOCATION:Parker Family Chapel on the River Garden campus\, 11401 Old St. Augustine Road\, Jacksonville\, FL\, 32258\, United States
END:VEVENT
BEGIN:VEVENT
DTSTART;TZID=America/New_York:20230621T100000
DTEND;TZID=America/New_York:20230621T113000
DTSTAMP:20260422T022633
CREATED:20230621T135607Z
LAST-MODIFIED:20230501T173406Z
UID:14180-1687341600-1687347000@rivergarden.org
SUMMARY:AARP - Smart Drive TEK Workshop
DESCRIPTION:AARP EDUCATION – Presented by AARP Community Education Instructor\, Andrea Adams.\nIn-Person\nRiver Garden Cohen Auditorium 11401 Old St. Augustine Road\, 32258\nQuestions? CALL (904) 288-7855 EMAIL kbell@rivergarden.org
URL:https://rivergarden.org/event/aarp-smart-drive-tek-workshop/
LOCATION:Cohen Auditorium on the River Garden Campus\, 11401 Old St. Augustine Road\, Jacksonville\, FL\, 32258\, United States
END:VEVENT
BEGIN:VEVENT
DTSTART;TZID=America/New_York:20230621T100000
DTEND;TZID=America/New_York:20230621T113000
DTSTAMP:20260422T022633
CREATED:20230501T182533Z
LAST-MODIFIED:20230501T182713Z
UID:14607-1687341600-1687347000@rivergarden.org
SUMMARY:AARP Smart DriverTek
DESCRIPTION:June 21\, 2023\n10-11:30AM \nComplimentary Class for all adults who are interested in learning more about new vehicle technology. \nAARP Instructors teach all about the latest high-tech safety features in your current car\, or what technology to look for when shopping for a new car. The safety benefits of blind spot warning systems\, forward collision warnings and more.
URL:https://rivergarden.org/event/aarp-smart-drivertek/
LOCATION:Cohen Auditorium on the River Garden Campus\, 11401 Old St. Augustine Road\, Jacksonville\, FL\, 32258\, United States
END:VEVENT
BEGIN:VEVENT
DTSTART;TZID=America/New_York:20230620T113000
DTEND;TZID=America/New_York:20230620T130000
DTSTAMP:20260422T022633
CREATED:20230501T183358Z
LAST-MODIFIED:20230511T191644Z
UID:14612-1687260600-1687266000@rivergarden.org
SUMMARY:Closing Luncheon - River Garden Auxiliary
DESCRIPTION:“Picnic in the Garden” \nJune 20\, 2023 \n11:30AM \nChairs: Rhoda Goldstein & Kathy Osterer \nBuy Ticket online: https://rivergardenauxiliary.square.site/product/river-garden-auxiliary-closing-luncheon-picnic-in-the-garden-/8?cp=true&sa=true&sbp=false&q=false \n 
URL:https://rivergarden.org/event/closing-luncheon-river-garden-auxiliary/
LOCATION:Cohen Auditorium on the River Garden Campus\, 11401 Old St. Augustine Road\, Jacksonville\, FL\, 32258\, United States
END:VEVENT
BEGIN:VEVENT
DTSTART;TZID=America/New_York:20230614T153000
DTEND;TZID=America/New_York:20230614T170000
DTSTAMP:20260422T022633
CREATED:20230501T171243Z
LAST-MODIFIED:20230501T171243Z
UID:14591-1686756600-1686762000@rivergarden.org
SUMMARY:Alzheimer's Association Support Group
DESCRIPTION:ALZHEIMER’S ASSOCIATION SUPPORT GROUP\n2ND WEDNESDAYS\, May 10 | June 14 | July 12 | August 9\nIn-Person with Dr. Sue Krall | 3:30 PM\nat River Garden Parker Chapel\n11401 Old St. Augustine Road\, 32258\nQuestions? CALL (904) 288-7851\nEMAIL jglassman@rivergarden.org
URL:https://rivergarden.org/event/alzheimers-association-support-group-4/
LOCATION:Parker Family Chapel on the River Garden campus
END:VEVENT
BEGIN:VEVENT
DTSTART;TZID=America/New_York:20230606T110000
DTEND;TZID=America/New_York:20230606T160000
DTSTAMP:20260422T022633
CREATED:20230501T171718Z
LAST-MODIFIED:20230501T171718Z
UID:14597-1686049200-1686067200@rivergarden.org
SUMMARY:River Garden Auxiliary Game Day
DESCRIPTION:Hosted by the River Garden Auxiliary\nJune 6\, 2023\n11:00AM – 4:00PM\nReservations Required\n$25 incudes lunch and snacks\nSpecial 50/50 \nPlay Bridge\, Canasta\, Mah Jongg or any game of your choice.\nContact Faye Hyken (904) 534-8001
URL:https://rivergarden.org/event/river-garden-auxiliary-game-day-2/
LOCATION:Cohen Auditorium on the River Garden Campus\, 11401 Old St. Augustine Road\, Jacksonville\, FL\, 32258\, United States
END:VEVENT
BEGIN:VEVENT
DTSTART;TZID=America/New_York:20230510T153000
DTEND;TZID=America/New_York:20230510T163000
DTSTAMP:20260422T022633
CREATED:20220701T152035Z
LAST-MODIFIED:20230501T171136Z
UID:14047-1683732600-1683736200@rivergarden.org
SUMMARY:Alzheimer’s Association Support Group
DESCRIPTION:ALZHEIMER’S ASSOCIATION SUPPORT GROUP\n2ND WEDNESDAYS\, May 10 | June 14 | July 12 | August 9\nIn-Person with Dr. Sue Krall | 3:30 PM\nat River Garden Parker Chapel\n11401 Old St. Augustine Road\, 32258\nQuestions? CALL (904) 288-7851\nEMAIL jglassman@rivergarden.org
URL:https://rivergarden.org/event/alzheimers-association-support-group-3/
LOCATION:Parker Family Chapel on the River Garden campus\, 11401 Old St. Augustine Road\, Jacksonville\, FL\, 32258\, United States
END:VEVENT
BEGIN:VEVENT
DTSTART;TZID=America/New_York:20230419T120000
DTEND;TZID=America/New_York:20230419T180000
DTSTAMP:20260422T022633
CREATED:20220726T165937Z
LAST-MODIFIED:20221102T193530Z
UID:14099-1681905600-1681927200@rivergarden.org
SUMMARY:River Garden Golf Classic
DESCRIPTION:Save the Date.
URL:https://rivergarden.org/event/river-garden-golf-classic/
LOCATION:Deerwood Country Club\, 10239 Golf Club Drive\, Jacksonville\, FL\, 32256\, United States
END:VEVENT
BEGIN:VEVENT
DTSTART;TZID=America/New_York:20230326T150000
DTEND;TZID=America/New_York:20230326T180000
DTSTAMP:20260422T022633
CREATED:20220726T165821Z
LAST-MODIFIED:20220726T165821Z
UID:14097-1679842800-1679853600@rivergarden.org
SUMMARY:River Garden 77th Anniversary Day
DESCRIPTION:Save the Date.
URL:https://rivergarden.org/event/river-garden-77th-anniversary-day/
LOCATION:River Garden Campus\, 11401 Old St. Augustine Road\, Jacksonville\, 32258\, United States
END:VEVENT
BEGIN:VEVENT
DTSTART;TZID=America/New_York:20221210T190000
DTEND;TZID=America/New_York:20221210T230000
DTSTAMP:20260422T022633
CREATED:20220719T213007Z
LAST-MODIFIED:20220719T213007Z
UID:14084-1670698800-1670713200@rivergarden.org
SUMMARY:30th River Garden Foundation Gala
DESCRIPTION:Dec. 10\, 2022\n7:00 PM\nSawgrass Marriott Golf Resort & Spa\nFor information and sponsorship opportunities visit www.rivergarden.org/gala
URL:https://rivergarden.org/event/30th-river-garden-foundation-gala/
LOCATION:FL
END:VEVENT
BEGIN:VEVENT
DTSTART;TZID=America/New_York:20220913T100000
DTEND;TZID=America/New_York:20220913T110000
DTSTAMP:20260422T022633
CREATED:20220701T132536Z
LAST-MODIFIED:20220711T153208Z
UID:14040-1663063200-1663066800@rivergarden.org
SUMMARY:Medicare Education with Eldersource
DESCRIPTION:MEDICARE EDUCATION – Presented by Eldersource\nIn-Person\, Masks Required | September 13 at 10:00 AM\nat River Garden Cohen Auditorium\n11401 Old St. Augustine Road\, 32258 \nQuestions? CALL (904) 288-7855\nEMAIL kbell@rivergarden.org \nPLEASE CLICK HERE TO REGISTER
URL:https://rivergarden.org/event/medicare-education-with-eldersource/
LOCATION:Cohen Auditorium on the River Garden Campus\, 11401 Old St. Augustine Road\, Jacksonville\, FL\, 32258\, United States
END:VEVENT
BEGIN:VEVENT
DTSTART;TZID=America/New_York:20220810T153000
DTEND;TZID=America/New_York:20220810T163000
DTSTAMP:20260422T022633
CREATED:20220701T151907Z
LAST-MODIFIED:20220726T164813Z
UID:14045-1660145400-1660149000@rivergarden.org
SUMMARY:Alzheimer’s Association Support Group
DESCRIPTION:ALZHEIMER’S ASSOCIATION SUPPORT GROUP\n2ND WEDNESDAYS\, AUG 10 | SEP 14 | OCT 12 | NOV 9\nIn-Person with Dr. Sue Krall | 3:30 PM\nat River Garden Parker Chapel\n11401 Old St. Augustine Road\, 32258\nQuestions? CALL (904) 288-7851\nEMAIL jglassman@rivergarden.org
URL:https://rivergarden.org/event/alzheimers-association-support-group-2/
LOCATION:Parker Family Chapel on the River Garden campus\, 11401 Old St. Augustine Road\, Jacksonville\, FL\, 32258\, United States
END:VEVENT
BEGIN:VEVENT
DTSTART;TZID=America/New_York:20220713T153000
DTEND;TZID=America/New_York:20220713T163000
DTSTAMP:20260422T022633
CREATED:20220630T153306Z
LAST-MODIFIED:20220726T165122Z
UID:14038-1657726200-1657729800@rivergarden.org
SUMMARY:Alzheimer's Association Support Group
DESCRIPTION:ALZHEIMER’S ASSOCIATION SUPPORT GROUP\n2ND WEDNESDAYS\, JUL 13 | AUG 10 | SEP 14 | OCT 12\nIn-Person In-Person with Dr. Sue Krall | 3:30 PM\nat River Garden Parker Chapel\n11401 Old St. Augustine Road\, 32258\nQuestions? CALL (904) 288-7851\nEMAIL jglassman@rivergarden.org
URL:https://rivergarden.org/event/alzheimers-association-support-group/
LOCATION:Parker Family Chapel on the River Garden campus\, 11401 Old St. Augustine Road\, Jacksonville\, FL\, 32258\, United States
END:VEVENT
BEGIN:VEVENT
DTSTART;TZID=America/New_York:20220601T120000
DTEND;TZID=America/New_York:20220601T150000
DTSTAMP:20260422T022633
CREATED:20201012T163243Z
LAST-MODIFIED:20210928T134151Z
UID:12937-1654084800-1654095600@rivergarden.org
SUMMARY:Auxiliary Game Day
DESCRIPTION:TBD – Postponed until Summer 2022
URL:https://rivergarden.org/event/auxiliary-game-day/
LOCATION:Cohen Auditorium on the River Garden Campus\, 11401 Old St. Augustine Road\, Jacksonville\, FL\, 32258\, United States
END:VEVENT
BEGIN:VEVENT
DTSTART;TZID=America/New_York:20220327T140000
DTEND;TZID=America/New_York:20220327T180000
DTSTAMP:20260422T022633
CREATED:20210624T190115Z
LAST-MODIFIED:20220726T165510Z
UID:13265-1648389600-1648404000@rivergarden.org
SUMMARY:River Garden 76th Anniversary Day
DESCRIPTION:Save the date. Stay tuned for details.
URL:https://rivergarden.org/event/river-garden-76th-anniversary-day/
LOCATION:River Garden Campus\, 11401 Old St. Augustine Road\, Jacksonville\, 32258\, United States
END:VEVENT
BEGIN:VEVENT
DTSTART;TZID=America/New_York:20220308T110000
DTEND;TZID=America/New_York:20230308T130000
DTSTAMP:20260422T022633
CREATED:20221222T200637Z
LAST-MODIFIED:20221222T200637Z
UID:14514-1646737200-1678280400@rivergarden.org
SUMMARY:River Garden Auxiliary Donor Lunch
DESCRIPTION:Details Coming Soon
URL:https://rivergarden.org/event/river-garden-auxiliary-donor-lunch/
LOCATION:FL
END:VEVENT
BEGIN:VEVENT
DTSTART;TZID=America/New_York:20210615T113000
DTEND;TZID=America/New_York:20210615T123000
DTSTAMP:20260422T022633
CREATED:20210604T163637Z
LAST-MODIFIED:20210604T163637Z
UID:13219-1623756600-1623760200@rivergarden.org
SUMMARY:Auxiliary Closing Meeting & Installation
DESCRIPTION:Via ZOOM | https://zoom.us/j/92985713349?pwd=Y2NPWE5DeEo5RDNOZDVPb0d0eG1pZz09\nMeeting ID 929 8571 3349\nPasscode 845874
URL:https://rivergarden.org/event/auxiliary-closing-meeting-installation/
LOCATION:via ZOOM
END:VEVENT
BEGIN:VEVENT
DTSTART;TZID=America/New_York:20210428T120000
DTEND;TZID=America/New_York:20210428T180000
DTSTAMP:20260422T022633
CREATED:20201012T163803Z
LAST-MODIFIED:20210113T220311Z
UID:12941-1619611200-1619632800@rivergarden.org
SUMMARY:River Garden Foundation Golf Tournament
DESCRIPTION:Save the date for a wonderful day on the links @ Deerwood.\nhttps://rivergarden.org/river-garden-foundation/golf-classic/
URL:https://rivergarden.org/event/river-garden-foundation-golf-tournament/
LOCATION:Deerwood Country Club\, 10239 Golf Club Drive\, Jacksonville\, FL\, 32256\, United States
END:VEVENT
BEGIN:VEVENT
DTSTART;TZID=America/New_York:20210321T160000
DTEND;TZID=America/New_York:20210321T173000
DTSTAMP:20260422T022633
CREATED:20201012T164023Z
LAST-MODIFIED:20210303T164844Z
UID:12943-1616342400-1616347800@rivergarden.org
SUMMARY:River Garden 75th Anniversary Day
DESCRIPTION:All are invited to be a part of our special 75th Anniversary Day & Annual Meeting to be held on Sunday\, March 21\, 2021 @ 4:00 PM.\nAlthough we will not be able to celebrate with our typical outdoor BBQ & fun\, we will be broadcasting the meeting on YouTube and internally on our TV station 266.\nThere will be a special time to celebrate the retirements of Kathy Osterer & Marty Goetz\, plus we’ll hear from our Board leadership and Mauri Mizrahi\, our incoming CEO.\nPlease plan to join us! \nThis will be the You Tube link to our Annual Meeting Live Stream broadcast on March 21.
URL:https://rivergarden.org/event/river-garden-auxiliary-special-event-4/
LOCATION:River Garden Campus\, 11401 Old St. Augustine Road\, Jacksonville\, 32258\, United States
END:VEVENT
BEGIN:VEVENT
DTSTART;TZID=America/New_York:20210212T103000
DTEND;TZID=America/New_York:20210212T113000
DTSTAMP:20260422T022633
CREATED:20201012T175004Z
LAST-MODIFIED:20210203T195225Z
UID:12948-1613125800-1613129400@rivergarden.org
SUMMARY:Auxiliary Book Review with Karen Backilman
DESCRIPTION:February 12\, 2021 at 10:30am\nThe Auxiliary members look forward to seeing you  to enjoy Karen’s lively discussion on Jane Austen.  RSVP to Mimi Kaufman at 626-2472\n2sexymandms@gmail.com \n• Jane Austen\, Pride and Prejudice and the Knockoffs\n(If you don’t want to read the book\, there’s always the movies.)\n• Get some historical background on the writings of Jane Austen\nJane Austen\, the Secret Radical by Helena Kelly\n• What Jane Austen Ate and Charles Dickens Knew: From Fox\nHunting to Whist\, the Facts of Daily Life in 19th Century\nEngland by Daniel Pool\n• A Truth Universally Acknowledged (33 Great Writers on Why\nWe Read Jane Austen)\nFinish up with What Would Jane Do?\nQuips and Wisdom from Jane Austen
URL:https://rivergarden.org/event/auxiliary-special-event-2/
LOCATION:FL
END:VEVENT
BEGIN:VEVENT
DTSTART;TZID=America/New_York:20210121T143000
DTEND;TZID=America/New_York:20210121T153000
DTSTAMP:20260422T022633
CREATED:20210113T220815Z
LAST-MODIFIED:20210114T154703Z
UID:13072-1611239400-1611243000@rivergarden.org
SUMMARY:The American Society for Yad Vashem presents "No Child's Play"
DESCRIPTION:No Child’s Play – Click here to see flyer \nJoin Marlene W. Yahalom\, PhD\, Director of Education for the American Society for Yad Vashem\, for a powerful presentation and exhibition on the world of children during the Holocaust.\n“NO CHILD’S PLAY”\nChildren in the Holocaust: Creativity and Play\nTHURSDAY\, JAN. 21\, 2021 2:30 PM VIA ZOOM\nZoom link provided upon registration. RSVP to Laura Platzer: lplatzer@rivergarden.org or 904-886-8429
URL:https://rivergarden.org/event/the-american-society-for-yad-vashem-presents-no-childs-play/
LOCATION:FL
END:VEVENT
BEGIN:VEVENT
DTSTART;TZID=America/New_York:20201211T110000
DTEND;TZID=America/New_York:20201211T123000
DTSTAMP:20260422T022633
CREATED:20201116T212356Z
LAST-MODIFIED:20201117T173919Z
UID:12979-1607684400-1607689800@rivergarden.org
SUMMARY:Post-Election Connections
DESCRIPTION:First ever ZOOM Event!\nDecember 11\, 2020 at 11am\nTOPIC:   Post-Election Connections \nNow with the election behind us and the holiday season in front of us and while experiencing a pandemic\, join us for an uplifting discussion led by Licensed Mental Health Counselor\, Michelle Pargman\, on ways to strengthen the connection with yourself\, which enables our connection with others to improve our overall emotional well-being. You must make a reservation to attend.\nRSVP to auxiliary@rivergarden.org or call Mimi Kaufman at 904-626-2472.\nZOOM link will be provided after reservation confirmation.
URL:https://rivergarden.org/event/post-election-connections/
LOCATION:via ZOOM
END:VEVENT
BEGIN:VEVENT
DTSTART;TZID=America/Halifax:20201114T190000
DTEND;TZID=America/Halifax:20201114T230000
DTSTAMP:20260422T022633
CREATED:20191107T205123Z
LAST-MODIFIED:20200903T202459Z
UID:11814-1605380400-1605394800@rivergarden.org
SUMMARY:28th Annual Foundation Gala
DESCRIPTION:‘No-Go’ Gala
URL:https://rivergarden.org/event/28th-annual-foundation-gala/
LOCATION:FL\, United States
END:VEVENT
BEGIN:VEVENT
DTSTART;TZID=America/New_York:20200426T160000
DTEND;TZID=America/New_York:20200426T170000
DTSTAMP:20260422T022633
CREATED:20200412T155340Z
LAST-MODIFIED:20200412T182751Z
UID:12713-1587916800-1587920400@rivergarden.org
SUMMARY:River Garden Annual Meeting
DESCRIPTION:Many of you are aware that River Garden Hebrew’s 74th Anniversary Day Celebration\, originally scheduled for Sunday\, March 29\, was cancelled and that the Annual Meeting of River Garden Senior Services postponed. Our Senior Services Board has now rescheduled its Annual Meeting for Sunday\, April 26\, at 4 pm. The meeting will be held via “Zoom” and is expected to last up to an hour. We will be emailing the agenda to all of you on Monday\, April 20. In the meantime\, please mark your calendars to join us for our Annual Meeting on Sunday\, April 26\, at 4 pm. \nTopic: River Garden Annual Meeting\nTime: Apr 26\, 2020 04:00 PM Eastern Time (US and Canada)\nJoin Zoom Meeting\nhttps://zoom.us/j/2963041116?pwd=eTF1VGtlK2NwcG9FZ2hMejk3elVqQT09\nMeeting ID: 296 304 1116\nPassword: Please check your email or call us for the password. \nPlease don’t hesitate to reach out to us if you have any questions.
URL:https://rivergarden.org/event/river-garden-annual-meeting/
LOCATION:via ZOOM
END:VEVENT
BEGIN:VEVENT
DTSTART;TZID=America/New_York:20200310T100000
DTEND;TZID=America/New_York:20200310T110000
DTSTAMP:20260422T022633
CREATED:20200219T201633Z
LAST-MODIFIED:20200219T201633Z
UID:12563-1583834400-1583838000@rivergarden.org
SUMMARY:Megillah Reading With Rabbi Shapiro
DESCRIPTION:Celebrating Purim! \nMar 10 Megillah Reading with Rabbi Shapiro\n10:00 AM\nCommunity Invited
URL:https://rivergarden.org/event/megillah-reading-with-rabbi-shapiro/
LOCATION:Parker Family Chapel on the River Garden campus\, 11401 Old St. Augustine Road\, Jacksonville\, FL\, 32258\, United States
END:VEVENT
BEGIN:VEVENT
DTSTART;TZID=America/New_York:20200304T090000
DTEND;TZID=America/New_York:20200304T103000
DTSTAMP:20260422T022633
CREATED:20200219T201708Z
LAST-MODIFIED:20200219T201708Z
UID:12565-1583312400-1583317800@rivergarden.org
SUMMARY:Jewish Java
DESCRIPTION:Mar 4 Jewish Java\n9:00 AM\nRSVP (904) 224-1408 – Isabel
URL:https://rivergarden.org/event/jewish-java-13/
LOCATION:Cohen Auditorium on the River Garden Campus\, 11401 Old St. Augustine Road\, Jacksonville\, FL\, 32258\, United States
END:VEVENT
END:VCALENDAR