BEGIN:VCALENDAR
VERSION:2.0
PRODID:-//River Garden - ECPv6.15.20//NONSGML v1.0//EN
CALSCALE:GREGORIAN
METHOD:PUBLISH
X-WR-CALNAME:River Garden
X-ORIGINAL-URL:https://rivergarden.org
X-WR-CALDESC:Events for River Garden
REFRESH-INTERVAL;VALUE=DURATION:PT1H
X-Robots-Tag:noindex
X-PUBLISHED-TTL:PT1H
BEGIN:VTIMEZONE
TZID:America/New_York
BEGIN:DAYLIGHT
TZOFFSETFROM:-0500
TZOFFSETTO:-0400
TZNAME:EDT
DTSTART:20240310T070000
END:DAYLIGHT
BEGIN:STANDARD
TZOFFSETFROM:-0400
TZOFFSETTO:-0500
TZNAME:EST
DTSTART:20241103T060000
END:STANDARD
BEGIN:DAYLIGHT
TZOFFSETFROM:-0500
TZOFFSETTO:-0400
TZNAME:EDT
DTSTART:20250309T070000
END:DAYLIGHT
BEGIN:STANDARD
TZOFFSETFROM:-0400
TZOFFSETTO:-0500
TZNAME:EST
DTSTART:20251102T060000
END:STANDARD
BEGIN:DAYLIGHT
TZOFFSETFROM:-0500
TZOFFSETTO:-0400
TZNAME:EDT
DTSTART:20260308T070000
END:DAYLIGHT
BEGIN:STANDARD
TZOFFSETFROM:-0400
TZOFFSETTO:-0500
TZNAME:EST
DTSTART:20261101T060000
END:STANDARD
END:VTIMEZONE
BEGIN:VEVENT
DTSTART;TZID=America/New_York:20250203T110000
DTEND;TZID=America/New_York:20250203T123000
DTSTAMP:20260422T045826
CREATED:20241101T190333Z
LAST-MODIFIED:20241101T190346Z
UID:15581-1738580400-1738585800@rivergarden.org
SUMMARY:Maximize Your Memory Potential - Part 3
DESCRIPTION:Join us for a stimulating series!River Garden\, in partnership with Searching for Identity\, is a proud supporter of this three-part series featuring Dr. Robin West.* Register online at www.searchingforidentity.org/memory* Lunch & workbook included.* Events are hosted at the Jacksonville Jewish Center.\n\nFebruary 3\, 2025 at 11:00AM\nPart 3: MAKING MEMORY WORK: What In The World Can I Do?Learn useful memory techniques to increase everyday success.
URL:https://rivergarden.org/event/maximize-your-memory-potential-part-3/
LOCATION:Jacksonville Jewish Center
END:VEVENT
BEGIN:VEVENT
DTSTART;TZID=America/New_York:20250212T153000
DTEND;TZID=America/New_York:20250212T163000
DTSTAMP:20260422T045826
CREATED:20250110T153129Z
LAST-MODIFIED:20250110T153129Z
UID:16035-1739374200-1739377800@rivergarden.org
SUMMARY:Caregiver Support - Alzheimer's Association
DESCRIPTION:This group is OPEN to the community and meets on the second Wednesday of each month from 3:30-4:30. \nRSVP not required. \nThe dates for 2025 are \nJan. 8 \nFeb. 12 \nMar. 12 \nApr. 9 \nMay 14 \nJun. 11 \nJul. 9 \nAug. 13 \nSep. 10 \nOct. 8 \nNov. 12 \nDec. 10
URL:https://rivergarden.org/event/caregiver-support-alzheimers-association/
LOCATION:Parker Family Chapel on the River Garden campus\, 11401 Old St. Augustine Road\, Jacksonville\, FL\, 32258\, United States
END:VEVENT
BEGIN:VEVENT
DTSTART;TZID=America/New_York:20250219T113000
DTEND;TZID=America/New_York:20250219T123000
DTSTAMP:20260422T045826
CREATED:20250110T152648Z
LAST-MODIFIED:20250110T152648Z
UID:16033-1739964600-1739968200@rivergarden.org
SUMMARY:Dealing with Details
DESCRIPTION:Lunch & Learn Program at River Garden\, Cohen Auditorium.RSVP https://shorturl.at/Re5wJ\nYou never know what life will bring and sometimes it’s the little things\, like a signature\, that can make a big difference.\nDo you have someone in your life you are caring for or will take care of in the future? Have you outlined your own plan and created the necessary documents so that your family and friends will not be burdened with decision-making? How much do the people who matter to you know about what matters most to you?\nThis event will be a great time to get answers to your questions\, help you and others jump start important conversations\, and gain peace of mind for the future.\nModerated by CEO mauri Mizrahi\, featuring panelists Susanna Barton (author)\, Eliot Safer (elder care attorney) and Tom Harris (funeral director).
URL:https://rivergarden.org/event/dealing-with-details/
LOCATION:Cohen Auditorium on the River Garden Campus\, 11401 Old St. Augustine Road\, Jacksonville\, FL\, 32258\, United States
END:VEVENT
BEGIN:VEVENT
DTSTART;TZID=America/New_York:20250226T153000
DTEND;TZID=America/New_York:20250226T163000
DTSTAMP:20260422T045826
CREATED:20250110T153451Z
LAST-MODIFIED:20250828T135607Z
UID:16037-1740583800-1740587400@rivergarden.org
SUMMARY:Caregiver Support - General Aging
DESCRIPTION:This group is OPEN to the community and meets on the fourth Wednesday of each month from 3:30-4:30. \nRSVP not required. \nThe dates for 2025 are \nJan. 22 \nFeb. 26 \nMar. 26 \nApr. 23 \nMay 28 \nJun. 25 \nJul. 23 \nAug. 27
URL:https://rivergarden.org/event/caregiver-support-general/
LOCATION:Parker Family Chapel on the River Garden campus\, 11401 Old St. Augustine Road\, Jacksonville\, FL\, 32258\, United States
END:VEVENT
END:VCALENDAR