BEGIN:VCALENDAR
VERSION:2.0
PRODID:-//River Garden - ECPv6.15.20//NONSGML v1.0//EN
CALSCALE:GREGORIAN
METHOD:PUBLISH
X-WR-CALNAME:River Garden
X-ORIGINAL-URL:https://rivergarden.org
X-WR-CALDESC:Events for River Garden
REFRESH-INTERVAL;VALUE=DURATION:PT1H
X-Robots-Tag:noindex
X-PUBLISHED-TTL:PT1H
BEGIN:VTIMEZONE
TZID:America/New_York
BEGIN:DAYLIGHT
TZOFFSETFROM:-0500
TZOFFSETTO:-0400
TZNAME:EDT
DTSTART:20240310T070000
END:DAYLIGHT
BEGIN:STANDARD
TZOFFSETFROM:-0400
TZOFFSETTO:-0500
TZNAME:EST
DTSTART:20241103T060000
END:STANDARD
BEGIN:DAYLIGHT
TZOFFSETFROM:-0500
TZOFFSETTO:-0400
TZNAME:EDT
DTSTART:20250309T070000
END:DAYLIGHT
BEGIN:STANDARD
TZOFFSETFROM:-0400
TZOFFSETTO:-0500
TZNAME:EST
DTSTART:20251102T060000
END:STANDARD
BEGIN:DAYLIGHT
TZOFFSETFROM:-0500
TZOFFSETTO:-0400
TZNAME:EDT
DTSTART:20260308T070000
END:DAYLIGHT
BEGIN:STANDARD
TZOFFSETFROM:-0400
TZOFFSETTO:-0500
TZNAME:EST
DTSTART:20261101T060000
END:STANDARD
END:VTIMEZONE
BEGIN:VEVENT
DTSTART;TZID=America/New_York:20250612T143000
DTEND;TZID=America/New_York:20250612T160000
DTSTAMP:20260421T234338
CREATED:20250513T183717Z
LAST-MODIFIED:20250513T201514Z
UID:16359-1749738600-1749744000@rivergarden.org
SUMMARY:Healthy Minds\, Happy Feet
DESCRIPTION:In partnership with AARP\, River Garden is pleased to offer a complimentary community event designed especially for caregivers. \nJoin us for Healthy Minds\, Happy Feet\, a joyful and restorative program where we combine simple\, energizing line dances with an interactive discussion exploring the Six Pillars of Brain Health—physical exercise\, nutrition\, mental stimulation\, sleep\, stress management and social connection. \nCaring for a loved one takes heart\, strength and support. Now is the right time to take actions that helps promote a healthy brain. Register today! \nThursday\, June 12 from 2:30-4:00PM \nRiver Garden\, Cohen Auditorium \n11401 Old St. Augustine Road\, Jacksonville\, FL 32258 \n  \nQuestions? Contact Kari Bell\, (904) 288-7855 | kbell@rivergarden.org
URL:https://rivergarden.org/event/healthy-minds-happy-feet/
LOCATION:Cohen Auditorium on the River Garden Campus\, 11401 Old St. Augustine Road\, Jacksonville\, FL\, 32258\, United States
END:VEVENT
BEGIN:VEVENT
DTSTART;TZID=America/New_York:20250617T113000
DTEND;TZID=America/New_York:20250617T140000
DTSTAMP:20260421T234338
CREATED:20240804T212835Z
LAST-MODIFIED:20240804T212835Z
UID:15479-1750159800-1750168800@rivergarden.org
SUMMARY:River Garden Auxiliary Closing Meeting & Luncheon
DESCRIPTION:
URL:https://rivergarden.org/event/river-garden-auxiliary-closing-meeting-luncheon/
LOCATION:Cohen Auditorium on the River Garden Campus\, 11401 Old St. Augustine Road\, Jacksonville\, FL\, 32258\, United States
END:VEVENT
END:VCALENDAR