BEGIN:VCALENDAR
VERSION:2.0
PRODID:-//River Garden - ECPv6.15.20//NONSGML v1.0//EN
CALSCALE:GREGORIAN
METHOD:PUBLISH
X-WR-CALNAME:River Garden
X-ORIGINAL-URL:https://rivergarden.org
X-WR-CALDESC:Events for River Garden
REFRESH-INTERVAL;VALUE=DURATION:PT1H
X-Robots-Tag:noindex
X-PUBLISHED-TTL:PT1H
BEGIN:VTIMEZONE
TZID:America/New_York
BEGIN:DAYLIGHT
TZOFFSETFROM:-0500
TZOFFSETTO:-0400
TZNAME:EDT
DTSTART:20250309T070000
END:DAYLIGHT
BEGIN:STANDARD
TZOFFSETFROM:-0400
TZOFFSETTO:-0500
TZNAME:EST
DTSTART:20251102T060000
END:STANDARD
BEGIN:DAYLIGHT
TZOFFSETFROM:-0500
TZOFFSETTO:-0400
TZNAME:EDT
DTSTART:20260308T070000
END:DAYLIGHT
BEGIN:STANDARD
TZOFFSETFROM:-0400
TZOFFSETTO:-0500
TZNAME:EST
DTSTART:20261101T060000
END:STANDARD
BEGIN:DAYLIGHT
TZOFFSETFROM:-0500
TZOFFSETTO:-0400
TZNAME:EDT
DTSTART:20270314T070000
END:DAYLIGHT
BEGIN:STANDARD
TZOFFSETFROM:-0400
TZOFFSETTO:-0500
TZNAME:EST
DTSTART:20271107T060000
END:STANDARD
END:VTIMEZONE
BEGIN:VEVENT
DTSTART;TZID=America/New_York:20260211T113000
DTEND;TZID=America/New_York:20260211T130000
DTSTAMP:20260421T124349
CREATED:20251211T012839Z
LAST-MODIFIED:20251215T222424Z
UID:19682-1770809400-1770814800@rivergarden.org
SUMMARY:Lunch & Lit with Author Harry Agress
DESCRIPTION:In partnership with the JCA\, we are pleased to invite you to join with author Harry Agress to learn about his book\, “New Years\, Best Years – Taking Your Retirement to the Next Level\,” a resource for personal and emotional well-being.  His words will help you embrace retirement as unique and intriguing time\, with extensive opportunities for reinvention and fulfillment. \nFebruary 11 at 11:30 a.m. \nRiver Garden – Cohen Auditorium \n11401 Old St. Augustine Road\, Jacksonville\, FL  32258 \nRegistration required. Lunch included. \nOnsite contact: Kari Bell\, kbell@rivergarden.org or 904.288.7855 \n 
URL:https://rivergarden.org/event/lunch-lit-with-author-harry-agress/
LOCATION:FL
END:VEVENT
BEGIN:VEVENT
DTSTART;TZID=America/New_York:20260218T180000
DTEND;TZID=America/New_York:20260218T193000
DTSTAMP:20260421T124349
CREATED:20251211T010451Z
LAST-MODIFIED:20251211T020307Z
UID:19678-1771437600-1771443000@rivergarden.org
SUMMARY:Jewish Genealogy
DESCRIPTION:Share with other members of the Jewish Genealogical Society of Northeast Florida \nAll are welcome\, no matter if you are an experienced researcher or just starting to ask questions about your ancestors. \nWednesday\,  February 18\, 2026 \n6:00PM – 7:30PM \nOptional: Arrive at 5:30 for an inexpensive kosher dinner and schmooze time. \nRiver Garden – Cohen Auditorium \n11401 Old St. Augustine Road \nJacksonville\, FL 32258 \nQuestions: Marla Westberg <marla@westbergfl.com> \nFB: Jewish Genealogy Society of Northeast Florida \nOnsite Contact: Nancy Davis\, 904.260.1818
URL:https://rivergarden.org/event/jewish-genealogy-7/
LOCATION:Cohen Auditorium on the River Garden Campus\, 11401 Old St. Augustine Road\, Jacksonville\, FL\, 32258\, United States
END:VEVENT
BEGIN:VEVENT
DTSTART;TZID=America/New_York:20260224T113000
DTEND;TZID=America/New_York:20260224T133000
DTSTAMP:20260421T124349
CREATED:20250821T184321Z
LAST-MODIFIED:20260208T161745Z
UID:18502-1771932600-1771939800@rivergarden.org
SUMMARY:Auxiliary Donor Luncheon
DESCRIPTION:This event is currently SOLD OUT.
URL:https://rivergarden.org/event/auxiliary-donor-luncheon/
LOCATION:FL
END:VEVENT
END:VCALENDAR